Workbook

Sheet ①구성 및 소개
B4: 작성 안내
C5: 가. 개발목적
C6: - 본 Tool은 산업발전부문 『배출권거래제 참여기업 온실가스•에너지 감축설비 지원사업』의 에너지 절감량 및 온실가스 감축효과 산출을 위해 개발됨
C7: - 본 Tool에 의해 산출된 감축량은 온실가스•에너지 감축설비 지원사업 신청 시 활용할 수 있음
C8: 나. 작성방법
C9: 감축설비 종류 | E9: 작성 시트 | F9: 작성 Tip
C10: 공정가스 설비 | E10: [공정가스 설비_ 온실가스 사용시설] | F10: - 명세서 상 온실가스 사용 시설로 보고하고 있는 물질이며, 물질 선택시 자동 산정 - 단, 사업장에서 사용하는 물질이 없는 경우 기타로 선택 후 직접 숫자를 입력해야 함
C11: 공정가스 설비 | E11: [공정가스 설비_ 전자사업] | F11: - 전자사업에서 사용되는 공정가스 배출량을 확인하기 위해 Tier 계산법에 따라 공정 선택 후 산정 - 온실가스 배출량(Total Emission)에 도입된 공정가스 설비가 해당 공정가스를 처리하는 비율을 곱해서 감축량 산정
C13: 다. 제출방법
C14: - 작성 후 e나라도움 사업계획 제출 시 함께 제출 (※ 파일명 : 감축효과 산출 Tool_업체명(사업장명)_감축설비명.xls) - 입력값에 대한 증빙 혹은 산출근거 제출 필수

Sheet ②공정가스 설비_온실가스 사용시설
B4: 업체명(사업장명) | L4: 직접입력 항목
B5: 감축설비명 | D5: 14. 공정가스 설비 | L5: 선택입력 항목
B6: 총 사업비 | G6: 백만원 | L6: 고정 및 자동항목
B8: 1. 에너지 사용 현황 | D8: ≪ 개선 전 ≫ | G8: ≪ 개선 후 ≫ | J8: ≪ 기대 효과 ≫
B10: 구분 | D10: 단위 | E10: 데이터 | G10: 단위 | H10: 데이터
B11: 사용가스 | D11: kg | E11: Carbon dioxide (이산화탄소) | G11: kg | H11: Carbon dioxide (이산화탄소)
B12: 연간 가스 사용량 | D12: =CONCATENATE(D11,"/년") -> kg/년 | E12: =E13*E14 -> 0 | G12: =CONCATENATE(G11,"/년") -> kg/년 | H12: =H13*H14 -> 0
B13: 시간당 가스 사용량 | D13: kg/hr | G13: kg/hr
B14: 연간 운전시간 | D14: hr/년 | G14: hr/년
B16: 2. 감축효과 산정
B18: 구분 | D18: 단위 | E18: 데이터 | G18: 단위 | H18: 데이터 | J18: 구분 | K18: 단위 | L18: 데이터
B19: 온실가스 배출량 | D19: tCO2eq | E19: =ROUND($E$12,3)*VLOOKUP($E11,매개변수!$B$10:$E$34,4,FALSE)/1000 -> 0 | G19: tCO2eq | H19: =ROUND($H$12,3)*VLOOKUP($H11,매개변수!$B$10:$E$34,4,FALSE)/1000 -> 0 | J19: 온실가스 감축량 | K19: tCO2eq | L19: =E19-H19 -> 0

Sheet ③공정가스 설비_전자사업
B4: 업체명(사업장명) | J4: 직접입력 항목
B5: 감축설비명 | C5: 14. 공정가스 설비 | J5: 선택입력 항목
B6: 총 사업비 | E6: 백만원 | J6: 고정 및 자동항목
B8: [Tier 1 계산법]
B9: 배출가스 No | C9: 공정구분 | D9: 사용 가스 | E9: 재품생산 실적 | F9: 단위 | G9: 배출계수 | H9: ① 온실가스
H10: <선택>_Emission | I10: Total_Emission
H11: kg_<선택> | I11: Ton_CO2eq
C12: 반도체 | D12: CF4 | F12: m2 | G12: =IF(C12="반도체",HLOOKUP(D12,매개변수!$AM$8:$AS$11,2,0),IF(C12="LCD",HLOOKUP(E,매개변수!$AM$8:$AS$11,3,0),HLOOKUP(D12,매개변수!$AM$8:$AS$11,4,0))) -> 0.9 | H12: =IF($C12="반도체",$E12*G12,$E12*G12/10^3) -> 0 | I12: =ROUND(H12*VLOOKUP(D12,매개변수!$D$9:$E$33,2,0)/10^3,3) -> 0
C13: <선택> | D13: <선택> | F13: m2 | G13: =IF(C13="반도체",HLOOKUP(D13,매개변수!$AM$8:$AS$11,2,0),IF(C13="LCD",HLOOKUP(E,매개변수!$AM$8:$AS$11,3,0),HLOOKUP(D13,매개변수!$AM$8:$AS$11,4,0))) -> 0 | H13: =IF($C13="반도체",$E13*G13,$E13*G13/10^3) -> 0 | I13: =ROUND(H13*VLOOKUP(D13,매개변수!$D$9:$E$33,2,0)/10^3,3) -> 0
C14: <선택> | D14: <선택> | F14: m2 | G14: =IF(C14="반도체",HLOOKUP(D14,매개변수!$AM$8:$AS$11,2,0),IF(C14="LCD",HLOOKUP(E,매개변수!$AM$8:$AS$11,3,0),HLOOKUP(D14,매개변수!$AM$8:$AS$11,4,0))) -> 0 | H14: =IF($C14="반도체",$E14*G14,$E14*G14/10^3) -> 0 | I14: =ROUND(H14*VLOOKUP(D14,매개변수!$D$9:$E$33,2,0)/10^3,3) -> 0
B16: [Tier 2a 계산법]
B17: 배출가스 No | C17: 공정구분 | D17: 사용 가스 | E17: 가스 소비량 | F17: 단위 | G17: 1-Ui | H17: 1-가스 Bombe 내의 잔류비율 | I17: 부피분율 | J17: 저감효율 | K17: 부생가스 배출계수 | S17: ① 온실가스
K18: CF4 | L18: 저감효율 | M18: C2F6 | N18: 저감효율 | O18: C3F8 | P18: 저감효율 | Q18: CHF3 | R18: 저감효율 | S18: <선택>_Emission | T18: CF4_Emission | U18: C2F6_Emission | V18: C3F8_Emission | W18: CHF3_Emission | X18: Total_Emission
H19: 1-h | I19: aj | J19: dj | L19: =CONCATENATE("d",K18) -> dCF4 | N19: =CONCATENATE("d",M18) -> dC2F6 | P19: =CONCATENATE("d",O18) -> dC3F8 | R19: =CONCATENATE("d",Q18) -> dCHF3 | S19: kg_<선택> | T19: kg_CF4 | U19: kg_C2F6 | V19: kg_C3F8 | W19: kg_CHF3 | X19: Ton_CO2eq
C20: <선택> | D20: <선택> | F20: kg | G20: =IF($C20="반도체",HLOOKUP($D20,매개변수!$AO$14:$AY$27,2,0),IF($C20="LCD",HLOOKUP($D20,매개변수!$AO$14:$AY$27,6,0),HLOOKUP($D20,매개변수!$AO$14:$AY$27,11,0))) -> 0 | H20: 0.9 | K20: =IF($C20="반도체",HLOOKUP($D20,매개변수!$AO$14:$AY$27,3,0),IF($C20="LCD",HLOOKUP($D20,매개변수!$AO$14:$AY$27,7,0),HLOOKUP($D20,매개변수!$AO$14:$AY$27,12,0))) -> 0 | M20: =IF($C20="반도체",HLOOKUP($D20,매개변수!$AO$14:$AY$27,4,0),IF($C20="LCD",HLOOKUP($D20,매개변수!$AO$14:$AY$27,8,0),HLOOKUP($D20,매개변수!$AO$14:$AY$27,13,0))) -> 0 | O20: =IF($C20="반도체",HLOOKUP($D20,매개변수!$AO$14:$AY$27,5,0),IF($C20="LCD",HLOOKUP($D20,매개변수!$AO$14:$AY$27,9,0),HLOOKUP($D20,매개변수!$AO$14:$AY$27,14,0))) -> 0 | Q20: =IF($C20="LCD",HLOOKUP($D20,매개변수!$AO$14:$AY$27,10,0),0) -> 0 | S20: =$H20*$E20*G20*(1-$I20*$J20) -> 0 | T20: =$H20*$E20*K20*(1-$I20*$L20) -> 0 | U20: =$H20*$E20*M20*(1-$I20*$N20) -> 0 | V20: =$H20*$E20*O20*(1-$I20*$P20) -> 0 | W20: =$H20*$E20*Q20*(1-$I20*$R20) -> 0 | X20: =ROUND((S20*VLOOKUP(D20,매개변수!$D$9:$E$33,2,0)+T20*매개변수!$E$26+U20*매개변수!$E$27+V20*매개변수!$E$28+W20*매개변수!$E$13)/10^3,3) -> 0
C21: <선택> | D21: <선택> | F21: kg | G21: =IF($C21="반도체",HLOOKUP($D21,매개변수!$AO$14:$AY$27,2,0),IF($C21="LCD",HLOOKUP($D21,매개변수!$AO$14:$AY$27,6,0),HLOOKUP($D21,매개변수!$AO$14:$AY$27,11,0))) -> 0 | H21: 0.9 | K21: =IF($C21="반도체",HLOOKUP($D21,매개변수!$AO$14:$AY$27,3,0),IF($C21="LCD",HLOOKUP($D21,매개변수!$AO$14:$AY$27,7,0),HLOOKUP($D21,매개변수!$AO$14:$AY$27,12,0))) -> 0 | M21: =IF($C21="반도체",HLOOKUP($D21,매개변수!$AO$14:$AY$27,4,0),IF($C21="LCD",HLOOKUP($D21,매개변수!$AO$14:$AY$27,8,0),HLOOKUP($D21,매개변수!$AO$14:$AY$27,13,0))) -> 0 | O21: =IF($C21="반도체",HLOOKUP($D21,매개변수!$AO$14:$AY$27,5,0),IF($C21="LCD",HLOOKUP($D21,매개변수!$AO$14:$AY$27,9,0),HLOOKUP($D21,매개변수!$AO$14:$AY$27,14,0))) -> 0 | Q21: =IF($C21="LCD",HLOOKUP($D21,매개변수!$AO$14:$AY$27,10,0),0) -> 0 | S21: =$H21*$E21*G21*(1-$I21*$J21) -> 0 | T21: =$H21*$E21*K21*(1-$I21*$L21) -> 0 | U21: =$H21*$E21*M21*(1-$I21*$N21) -> 0 | V21: =$H21*$E21*O21*(1-$I21*$P21) -> 0 | W21: =$H21*$E21*Q21*(1-$I21*$R21) -> 0 | X21: =ROUND((S21*VLOOKUP(D21,매개변수!$D$9:$E$33,2,0)+T21*매개변수!$E$26+U21*매개변수!$E$27+V21*매개변수!$E$28+W21*매개변수!$E$13)/10^3,3) -> 0
C22: <선택> | D22: <선택> | F22: kg | G22: =IF($C22="반도체",HLOOKUP($D22,매개변수!$AO$14:$AY$27,2,0),IF($C22="LCD",HLOOKUP($D22,매개변수!$AO$14:$AY$27,6,0),HLOOKUP($D22,매개변수!$AO$14:$AY$27,11,0))) -> 0 | H22: 0.9 | K22: =IF($C22="반도체",HLOOKUP($D22,매개변수!$AO$14:$AY$27,3,0),IF($C22="LCD",HLOOKUP($D22,매개변수!$AO$14:$AY$27,7,0),HLOOKUP($D22,매개변수!$AO$14:$AY$27,12,0))) -> 0 | M22: =IF($C22="반도체",HLOOKUP($D22,매개변수!$AO$14:$AY$27,4,0),IF($C22="LCD",HLOOKUP($D22,매개변수!$AO$14:$AY$27,8,0),HLOOKUP($D22,매개변수!$AO$14:$AY$27,13,0))) -> 0 | O22: =IF($C22="반도체",HLOOKUP($D22,매개변수!$AO$14:$AY$27,5,0),IF($C22="LCD",HLOOKUP($D22,매개변수!$AO$14:$AY$27,9,0),HLOOKUP($D22,매개변수!$AO$14:$AY$27,14,0))) -> 0 | Q22: =IF($C22="LCD",HLOOKUP($D22,매개변수!$AO$14:$AY$27,10,0),0) -> 0 | S22: =$H22*$E22*G22*(1-$I22*$J22) -> 0 | T22: =$H22*$E22*K22*(1-$I22*$L22) -> 0 | U22: =$H22*$E22*M22*(1-$I22*$N22) -> 0 | V22: =$H22*$E22*O22*(1-$I22*$P22) -> 0 | W22: =$H22*$E22*Q22*(1-$I22*$R22) -> 0 | X22: =ROUND((S22*VLOOKUP(D22,매개변수!$D$9:$E$33,2,0)+T22*매개변수!$E$26+U22*매개변수!$E$27+V22*매개변수!$E$28+W22*매개변수!$E$13)/10^3,3) -> 0
B24: [Tier 2b 계산법 - 식각공정]
B25: 배출가스 No | C25: 공정구분 | D25: 사용 가스 | E25: 가스 소비량 | F25: 단위 | G25: 1-Ui | H25: 1-가스 Bombe 내의 잔류비율 | I25: 부피분율 | J25: 저감효율 | K25: 부생가스 배출계수 | Q25: ① 온실가스
K26: CF4 | L26: 파괴율 | M26: C2F6 | N26: 파괴율 | O26: CHF3 | P26: 파괴율 | Q26: <선택>_Emission | R26: CF4_Emission | S26: C2F6_Emission | T26: CHF3_Emission | U26: Total_Emission
H27: 1-h | I27: aj | J27: dj | L27: =CONCATENATE("d",K26) -> dCF4 | N27: =CONCATENATE("d",M26) -> dC2F6 | P27: =CONCATENATE("d",O26) -> dCHF3 | Q27: kg_<선택> | R27: kg_CF4 | S27: kg_C2F6 | T27: kg_CHF3 | U27: Ton_CO2eq
C28: <선택> | D28: <선택> | F28: kg | G28: =IF($C28="반도체",HLOOKUP($D28,매개변수!$AO$31:$AY$41,2,0),IF($C28="LCD",HLOOKUP($D28,매개변수!$AO$31:$AY$41,5,0),HLOOKUP($D28,매개변수!$AO$31:$AY$41,9,0))) -> 0 | H28: 0.9 | K28: =IF($C28="반도체",HLOOKUP($D28,매개변수!$AO$31:$AY$41,3,0),IF($C28="LCD",HLOOKUP($D28,매개변수!$AO$31:$AY$41,6,0),HLOOKUP($D28,매개변수!$AO$31:$AY$41,10,0))) -> 0 | M28: =IF($C28="반도체",HLOOKUP($D28,매개변수!$AO$31:$AY$41,4,0),IF($C28="LCD",HLOOKUP($D28,매개변수!$AO$31:$AY$41,7,0),HLOOKUP($D28,매개변수!$AO$31:$AY$41,11,0))) -> 0 | O28: =IF($C28="LCD",HLOOKUP($D28,매개변수!$AO$31:$AY$41,8,0),0) -> 0 | Q28: =$H28*$E28*G28*(1-$I28*$J28) -> 0 | R28: =$H28*$E28*K28*(1-$I28*$L28) -> 0 | S28: =$H28*$E28*M28*(1-$I28*$N28) -> 0 | T28: =$H28*$E28*O28*(1-$I28*$P28) -> 0 | U28: =ROUND((Q28*VLOOKUP(D28,매개변수!$D$9:$E$33,2,0)+R28*매개변수!$E$26+S28*매개변수!$E$27+T28*매개변수!$E$13)/10^3,3) -> 0
C29: <선택> | D29: <선택> | F29: kg | G29: =IF($C29="반도체",HLOOKUP($D29,매개변수!$AO$31:$AY$41,2,0),IF($C29="LCD",HLOOKUP($D29,매개변수!$AO$31:$AY$41,5,0),HLOOKUP($D29,매개변수!$AO$31:$AY$41,9,0))) -> 0 | H29: 0.9 | K29: =IF($C29="반도체",HLOOKUP($D29,매개변수!$AO$31:$AY$41,3,0),IF($C29="LCD",HLOOKUP($D29,매개변수!$AO$31:$AY$41,6,0),HLOOKUP($D29,매개변수!$AO$31:$AY$41,10,0))) -> 0 | M29: =IF($C29="반도체",HLOOKUP($D29,매개변수!$AO$31:$AY$41,4,0),IF($C29="LCD",HLOOKUP($D29,매개변수!$AO$31:$AY$41,7,0),HLOOKUP($D29,매개변수!$AO$31:$AY$41,11,0))) -> 0 | O29: =IF($C29="LCD",HLOOKUP($D29,매개변수!$AO$31:$AY$41,8,0),0) -> 0 | Q29: =$H29*$E29*G29*(1-$I29*$J29) -> 0 | R29: =$H29*$E29*K29*(1-$I29*$L29) -> 0 | S29: =$H29*$E29*M29*(1-$I29*$N29) -> 0 | T29: =$H29*$E29*O29*(1-$I29*$P29) -> 0 | U29: =ROUND((Q29*VLOOKUP(D29,매개변수!$D$9:$E$33,2,0)+R29*매개변수!$E$26+S29*매개변수!$E$27+T29*매개변수!$E$13)/10^3,3) -> 0
C30: <선택> | D30: <선택> | F30: kg | G30: =IF($C30="반도체",HLOOKUP($D30,매개변수!$AO$31:$AY$41,2,0),IF($C30="LCD",HLOOKUP($D30,매개변수!$AO$31:$AY$41,5,0),HLOOKUP($D30,매개변수!$AO$31:$AY$41,9,0))) -> 0 | H30: 0.9 | K30: =IF($C30="반도체",HLOOKUP($D30,매개변수!$AO$31:$AY$41,3,0),IF($C30="LCD",HLOOKUP($D30,매개변수!$AO$31:$AY$41,6,0),HLOOKUP($D30,매개변수!$AO$31:$AY$41,10,0))) -> 0 | M30: =IF($C30="반도체",HLOOKUP($D30,매개변수!$AO$31:$AY$41,4,0),IF($C30="LCD",HLOOKUP($D30,매개변수!$AO$31:$AY$41,7,0),HLOOKUP($D30,매개변수!$AO$31:$AY$41,11,0))) -> 0 | O30: =IF($C30="LCD",HLOOKUP($D30,매개변수!$AO$31:$AY$41,8,0),0) -> 0 | Q30: =$H30*$E30*G30*(1-$I30*$J30) -> 0 | R30: =$H30*$E30*K30*(1-$I30*$L30) -> 0 | S30: =$H30*$E30*M30*(1-$I30*$N30) -> 0 | T30: =$H30*$E30*O30*(1-$I30*$P30) -> 0 | U30: =ROUND((Q30*VLOOKUP(D30,매개변수!$D$9:$E$33,2,0)+R30*매개변수!$E$26+S30*매개변수!$E$27+T30*매개변수!$E$13)/10^3,3) -> 0
B32: [Tier 2b 계산법 - 증착공정]
B33: 배출가스 No | C33: 공정구분 | D33: 사용 가스 | E33: 가스 소비량 | F33: 단위 | G33: 1-Ui | H33: 1-가스 Bombe 내의 잔류비율 | I33: 부피분율 | J33: 저감효율 | K33: 부생가스 배출계수 | Q33: ① 온실가스
K34: CF4 | L34: 파괴율 | M34: C2F6 | N34: 파괴율 | O34: C3F8 | P34: 파괴율 | Q34: <선택>_Emission | R34: CF4_Emission | S34: C2F6_Emission | T34: C3F8_Emission | U34: Total_Emission
H35: 1-h | I35: aj | J35: dj | L35: =CONCATENATE("d",K34) -> dCF4 | N35: =CONCATENATE("d",M34) -> dC2F6 | P35: =CONCATENATE("d",O34) -> dC3F8 | Q35: kg_<선택> | R35: kg_CF4 | S35: kg_C2F6 | T35: kg_C3F8 | U35: Ton_CO2eq
C36: <선택> | D36: <선택> | F36: kg | G36: =IF($C36="반도체",HLOOKUP($D36,매개변수!$AO$45:$AY$57,2,0),IF($C36="LCD",HLOOKUP($D36,매개변수!$AO$45:$AY$57,6,0),HLOOKUP($D36,매개변수!$AO$45:$AY$57,10,0))) -> 0 | H36: 0.9 | K36: =IF($C36="반도체",HLOOKUP($D36,매개변수!$AO$45:$AY$57,3,0),IF($C36="LCD",HLOOKUP($D36,매개변수!$AO$45:$AY$57,7,0),HLOOKUP($D36,매개변수!$AO$45:$AY$57,11,0))) -> 0 | M36: =IF($C36="반도체",HLOOKUP($D36,매개변수!$AO$45:$AY$57,4,0),IF($C36="LCD",HLOOKUP($D36,매개변수!$AO$45:$AY$57,8,0),HLOOKUP($D36,매개변수!$AO$45:$AY$57,12,0))) -> 0 | O36: =IF($C36="반도체",HLOOKUP($D36,매개변수!$AO$45:$AY$57,4,0),IF($C36="LCD",HLOOKUP($D36,매개변수!$AO$45:$AY$57,8,0),HLOOKUP($D36,매개변수!$AO$45:$AY$57,12,0))) -> 0 | Q36: =$H36*$E36*G36*(1-$I36*$J36) -> 0 | R36: =$H36*$E36*K36*(1-$I36*$L36) -> 0 | S36: =$H36*$E36*M36*(1-$I36*$N36) -> 0 | T36: =$H36*$E36*O36*(1-$I36*$P36) -> 0 | U36: =ROUND((Q36*VLOOKUP(D36,매개변수!$D$9:$E$33,2,0)+R36*매개변수!$E$26+S36*매개변수!$E$27+T36*매개변수!$E$28)/10^3,3) -> 0
C37: <선택> | D37: <선택> | F37: kg | G37: =IF($C37="반도체",HLOOKUP($D37,매개변수!$AO$45:$AY$57,2,0),IF($C37="LCD",HLOOKUP($D37,매개변수!$AO$45:$AY$57,6,0),HLOOKUP($D37,매개변수!$AO$45:$AY$57,10,0))) -> 0 | H37: 0.9 | K37: =IF($C37="반도체",HLOOKUP($D37,매개변수!$AO$45:$AY$57,3,0),IF($C37="LCD",HLOOKUP($D37,매개변수!$AO$45:$AY$57,7,0),HLOOKUP($D37,매개변수!$AO$45:$AY$57,11,0))) -> 0 | M37: =IF($C37="반도체",HLOOKUP($D37,매개변수!$AO$45:$AY$57,4,0),IF($C37="LCD",HLOOKUP($D37,매개변수!$AO$45:$AY$57,8,0),HLOOKUP($D37,매개변수!$AO$45:$AY$57,12,0))) -> 0 | O37: =IF($C37="반도체",HLOOKUP($D37,매개변수!$AO$45:$AY$57,4,0),IF($C37="LCD",HLOOKUP($D37,매개변수!$AO$45:$AY$57,8,0),HLOOKUP($D37,매개변수!$AO$45:$AY$57,12,0))) -> 0 | Q37: =$H37*$E37*G37*(1-$I37*$J37) -> 0 | R37: =$H37*$E37*K37*(1-$I37*$L37) -> 0 | S37: =$H37*$E37*M37*(1-$I37*$N37) -> 0 | T37: =$H37*$E37*O37*(1-$I37*$P37) -> 0 | U37: =ROUND((Q37*VLOOKUP(D37,매개변수!$D$9:$E$33,2,0)+R37*매개변수!$E$26+S37*매개변수!$E$27+T37*매개변수!$E$28)/10^3,3) -> 0
C38: <선택> | D38: <선택> | F38: kg | G38: =IF($C38="반도체",HLOOKUP($D38,매개변수!$AO$45:$AY$57,2,0),IF($C38="LCD",HLOOKUP($D38,매개변수!$AO$45:$AY$57,6,0),HLOOKUP($D38,매개변수!$AO$45:$AY$57,10,0))) -> 0 | H38: 0.9 | K38: =IF($C38="반도체",HLOOKUP($D38,매개변수!$AO$45:$AY$57,3,0),IF($C38="LCD",HLOOKUP($D38,매개변수!$AO$45:$AY$57,7,0),HLOOKUP($D38,매개변수!$AO$45:$AY$57,11,0))) -> 0 | M38: =IF($C38="반도체",HLOOKUP($D38,매개변수!$AO$45:$AY$57,4,0),IF($C38="LCD",HLOOKUP($D38,매개변수!$AO$45:$AY$57,8,0),HLOOKUP($D38,매개변수!$AO$45:$AY$57,12,0))) -> 0 | O38: =IF($C38="반도체",HLOOKUP($D38,매개변수!$AO$45:$AY$57,4,0),IF($C38="LCD",HLOOKUP($D38,매개변수!$AO$45:$AY$57,8,0),HLOOKUP($D38,매개변수!$AO$45:$AY$57,12,0))) -> 0 | Q38: =$H38*$E38*G38*(1-$I38*$J38) -> 0 | R38: =$H38*$E38*K38*(1-$I38*$L38) -> 0 | S38: =$H38*$E38*M38*(1-$I38*$N38) -> 0 | T38: =$H38*$E38*O38*(1-$I38*$P38) -> 0 | U38: =ROUND((Q38*VLOOKUP(D38,매개변수!$D$9:$E$33,2,0)+R38*매개변수!$E$26+S38*매개변수!$E$27+T38*매개변수!$E$28)/10^3,3) -> 0

Sheet 매개변수
B3: [표1] 지구온난화지수 (IPCC ２차 보고서) | G3: [표2] 연료별 열량 환산계수 (에너지기본법 시행규칙 제 6조) | T3: [표3] 폐기물소각 분야 배출계수 | AD3: [표5] 석유화학제품 생산 배출계수 | AL3: [표6] 전자산업 배출계수 | BA3: [표7] 탄산염의 기타 공정 사용 및 유리생산 배출계수
G5: 1 | H5: 2 | I5: 3 | J5: 4 | K5: 5 | L5: 6 | M5: 7 | N5: 8 | O5: 9 | P5: 10 | Q5: 11 | R5: 12
B6: 온 실 가 스 | D6: 화학식 | E6: 지구온난화지수 | G6: 연 료 | H6: 단위 | I6: 총발열량 | J6: 순발열량 | K6: 배출계수 | T6: 폐기물 성상 | U6: dm | V6: CF | W6: FCF | Y6: 소각기술 | Z6: CH4 배출계수 | BA6: 탄산염 | BB6: 배출계수(tCO2/t-탄산염) | BD6: 유리유형(i) | BE6: CO2 배출계수 (kg CO2/kg-유리)
K7: CO2 (kgCO2/TJ) | M7: CH4 (kgCH4/TJ) | Q7: N2O(kgN2O/TJ) | T7: <선택> | Y7: <선택> | AD7: 공정과정 | AE7: CO2 배출계수 | AF7: CH4 배출계수 | AI7: 원료 및 생산물 | AJ7: CO2 배출계수 | AL7: 전자산업 | AM7: 배출계수 (기판의 단위면적 당 질량) | BA7: <선택>
E8: ２차(IPCC) | I8: MJ 환산 | J8: MJ 환산 | K8: Tier1 | L8: Tier2 | M8: 제조업 건설업 | N8: 에너지 산업 | O8: 상업공공 | P8: 가정기타 | Q8: 제조업 건설업 에너지 산업 | R8: 상업 공공 가정 기타 | T8: 종이류 | U8: 0.9 | V8: 0.46 | W8: 0.01 | Y8: 연속식-고정상 | Z8: 0.0002 | AD8: <선택> | AI8: <선택> | AL8: <선택> | AM8: <선택> | AN8: CF4 | AO8: C2F6 | AP8: CHF3 | AQ8: C3F8 | AR8: SF6 | AS8: C6F14 | BA8: CaCO3 | BB8: 0.4397 | BD8: <선택>
B9: <선택> | D9: <선택> | G9: <선택> | T9: 섬유류 | U9: 0.8 | V9: 0.5 | W9: 0.2 | Y9: 연속식-유동상 | Z9: 0 | AD9: 메탄올(CH3OH) | AE9: 0.67 | AF9: 2.3 | AI9: 아세토니트릴(CH3CN) | AJ9: 2.1442 | AL9: 반도체 | AN9: 0.9 | AO9: 1 | AP9: 0.04 | AQ9: 0.05 | AR9: 0.2 | BA9: MgCO3 | BB9: 0.522 | BD9: 판유리 | BE9: 0.21
B10: Nitrous oxide (아산화질소) | D10: N2O | E10: 310 | G10: 원유 | H10: ㎏ | I10: 45 | J10: 42.2 | K10: 73300 | L10: 73300 | M10: 3 | N10: 3 | O10: 10 | P10: 10 | Q10: 0.6 | R10: 0.6 | T10: 음식물류 | U10: 0.4 | V10: 0.38 | W10: 0 | Y10: 준연속식-고정상 | Z10: 0.006 | AD10: 에틸렌디클로라이드(EDC) | AE10: 0.196 | AI10: 아크릴로니트릴(AN) | AJ10: 2.4417 | AL10: LCD | AN10: 0.5 | AR10: 4 | BA10: CaMg·(CO3)2 | BB10: 0.4773 | BD10: 유리용기(납유리) | BE10: 0.21
B11: HFC-23 | D11: CHF3 | E11: 11700 | G11: 휘발유 | H11: ℓ | I11: 32.7 | J11: 30.4 | K11: 69300 | L11: 73300 | M11: 3 | N11: 3 | O11: 10 | P11: 10 | Q11: 0.6 | R11: 0.6 | T11: 나무류 | U11: 0.85 | V11: 0.5 | W11: 0 | Y11: 준연속식-유동상 | Z11: 0.188 | AD11: 염화비닐 모노머(VCM) | AE11: 0.294 | AI11: 부타디엔(C4H6) | AJ11: 3.2536 | AL11: PV | AN11: 5 | AO11: 0.2 | BA11: FeCO3 | BB11: 0.3799 | BD11: 유리용기(착색유리) | BE11: 0.21
B12: HFC-32 | D12: CH2F2 | E12: 650 | G12: 등유 | H12: ℓ | I12: 36.7 | J12: 34.2 | K12: 71900 | L12: 71900 | M12: 3 | N12: 3 | O12: 10 | P12: 10 | Q12: 0.6 | R12: 0.6 | T12: 정원 및 공원 폐기물류 | U12: 0.4 | V12: 0.49 | W12: 0 | Y12: 회분식(배치형)-고정상 | Z12: 0.06 | AD12: EDC/VCM 통합공정 | AF12: 0.0226 | AI12: 카본블랙(CB) | AJ12: 3.5541 | BA12: Ca(Fe,Mg,Mn)(CO3)2 | BB12: 0.442 | BD12: 유리장섬유 | BE12: 0.19
B13: HFC-41 | D13: CH3F | E13: 150 | G13: 경유 | H13: ℓ | I13: 37.8 | J13: 35.2 | K13: 74100 | L13: 74100 | M13: 3 | N13: 3 | O13: 10 | P13: 10 | Q13: 0.6 | R13: 0.6 | T13: 기저귀 | U13: 0.4 | V13: 0.7 | W13: 0.1 | Y13: 회분식(배치형)-유동상 | Z13: 0.237 | AD13: 에틸렌옥사이드(EO) | AE13: 0.863 | AF13: 1.79 | AI13: 카본블랙(CB)원료 | AJ13: 3.2976 | AL13: tier2a | AO13: 배출계수(kg-부생가스/kg-투입가스) | BA13: MnCO3 | BB13: 0.3829 | BD13: 유리단섬유 | BE13: 0.25
B14: HCF-43-10mee | D14: C5H2F10 | E14: 1300 | G14: B-A | H14: ℓ | I14: 39 | J14: 36.4 | K14: 75100 | L14: 74800 | M14: 3 | N14: 3 | O14: 10 | P14: 10 | Q14: 0.6 | R14: 0.6 | T14: 고무 피혁류 | U14: 0.84 | V14: 0.67 | W14: 0.2 | AD14: 아크릴로니트릴(AN) | AE14: 1 | AF14: 0.18 | AI14: 에탄(C2H6) | AJ14: 3.1364 | AO14: <선택> | AP14: CF4 | AQ14: C2F6 | AR14: CHF3 | AS14: CH2F2 | AT14: C3F8 | AU14: c-C4F8 | AV14: SF6 | AW14: C4F6 | AX14: C5F8 | AY14: C4F8O | BA14: Na2CO3 | BB14: 0.4149 | BD14: 브라운관용유리(Panel) | BE14: 0.18
B15: HFC-125 | D15: C2HF5 | E15: 2800 | G15: B-B | H15: ℓ | I15: 40.5 | J15: 38 | K15: 76400 | L15: 75200 | M15: 3 | N15: 3 | O15: 10 | P15: 10 | Q15: 0.6 | R15: 0.6 | T15: 플라스틱류 | U15: 1 | V15: 0.75 | W15: 1 | Y15: 폐기물 형태 | Z15: CH4 배출계수 | AA15: N2O 배출계수 | AD15: 카본블랙(CB) | AE15: 2.62 | AF15: 0.06 | AI15: 에틸렌디클로라이드(EDC) | AJ15: 0.8977 | AL15: 반도체 | AM15: 1-Ui | AP15: 0.9 | AQ15: 0.6 | AR15: 0.4 | AS15: 0.1 | AT15: 0.4 | AU15: 0.1 | AV15: 0.2 | AW15: 0.1 | AX15: 0.1 | AY15: 0.1 | BD15: 브라운관용유리(Funnel) | BE15: 0.13
B16: HFC-134 | D16: C2H2F4 | E16: 1000 | G16: B-C | H16: ℓ | I16: 41.7 | J16: 39.2 | K16: 77400 | L16: 75500 | M16: 3 | N16: 3 | O16: 10 | P16: 10 | Q16: 0.6 | R16: 0.6 | T16: 금속류 | U16: 1 | V16: 0 | W16: 0 | Y16: <선택> | AI16: 에틸렌글리콜(EG) | AJ16: 1.418 | AM16: 부생가스 배출계수 | AN16: CF4 | AQ16: 0.2 | AR16: 0.07 | AS16: 0.08 | AT16: 0.1 | AU16: 0.1 | AW16: 0.3 | AX16: 0.1 | AY16: 0.1 | BD16: 가정용 유리제품 | BE16: 0.1
B17: HFC-134a | D17: CH2FCF3 | E17: 1300 | G17: LPG | H17: ㎏ | I17: 50.4 | J17: 46.3 | K17: 63100 | L17: 64500 | M17: 1 | N17: 1 | O17: 5 | P17: 5 | Q17: 0.1 | R17: 0.1 | T17: 유리류 | U17: 1 | V17: 0 | W17: 0 | Y17: 생활폐기물 | Z17: =61/1000 -> 0.061 | AA17: =52.1/1000 -> 0.0521 | AI17: 에틸렌옥사이드(EO) | AJ17: 1.9969 | AN17: C2F6 | AU17: 0.1 | AW17: 0.2 | AX17: 0.04 | BD17: 실험용기, 약병 | BE17: 0.03
B18: HFC-152a | D18: C2H4F2 | E18: 140 | G18: 부탄 | H18: ㎏ | I18: 49.5 | J18: 45.7 | K18: 63100 | L18: 66400 | M18: 1 | N18: 1 | O18: 5 | P18: 5 | Q18: 0.1 | R18: 0.1 | T18: 기타 생활폐기물 | U18: 0.9 | V18: 0.03 | W18: 1 | Y18: 사업장폐기물 | Z18: =13.9/1000 -> 0.0139 | AA18: =129.7/1000 -> 0.1297 | AI18: 시안화수소(HCN) | AJ18: 1.6283 | AN18: C3F8 | AY18: 0.04 | BD18: 전등용유리 | BE18: 0.2
B19: HFC-143 | D19: C2H3F3 | E19: 300 | G19: 나프타 | H19: ℓ | I19: 32.3 | J19: 29.9 | K19: 73300 | L19: 70400 | M19: 3 | N19: 3 | O19: 10 | P19: 10 | Q19: 0.6 | R19: 0.6 | T19: 음식물류(음식, 음료 및 담배) | U19: 0.4 | V19: 0.15 | W19: 0 | Y19: 하수슬러지 | Z19: =76.3/1000 -> 0.0763 | AA19: =595/1000 -> 0.595 | AI19: 메탄올(CH3OH) | AJ19: 1.374 | AL19: LCD | AM19: 1-Ui | AP19: 0.6 | AR19: 0.2 | AU19: 0.1 | AV19: 0.6
B20: HFC-143a | D20: C2H3F3 | E20: 3800 | G20: 용제 | H20: ℓ | I20: 32.8 | J20: 30.3 | K20: 73300 | L20: 70800 | M20: 3 | N20: 3 | O20: 10 | P20: 10 | Q20: 0.6 | R20: 0.6 | T20: 폐섬유류 | U20: 0.8 | V20: 0.4 | W20: 0.16 | AI20: CH4(메탄) | AJ20: 2.7443 | AM20: 부생가스 배출계수 | AN20: CF4 | AR20: 0.07 | AU20: 0.009
B21: HFC-227ea | D21: C3HF7 | E21: 2900 | G21: 항공유 | H21: ℓ | I21: 36.5 | J21: 33.9 | K21: 71500 | L21: 72600 | M21: 3 | N21: 3 | O21: 10 | P21: 10 | Q21: 0.6 | R21: 0.6 | T21: 폐목재류 | U21: 0.85 | V21: 0.43 | W21: 0 | Y21: 기상폐기물 종류 | Z21: CO2 배출계수 | AA21: CH4 배출계수 | AB21: N2O 배출계수 | AI21: 프로판 | AJ21: 2.9935 | AN21: C2F6 | AR21: 0.05
B22: HFC-236fa | D22: C3H2F6 | E22: 6300 | G22: 아스팔트 | H22: ㎏ | I22: 41.4 | J22: 39.2 | K22: 80700 | L22: 79200 | M22: 3 | N22: 3 | O22: 10 | P22: 10 | Q22: 0.6 | R22: 0.6 | T22: 폐지류 | U22: 0.9 | V22: 0.41 | W22: 0.01 | Y22: <선택> | AI22: 프로필렌(C3H6) | AJ22: 3.1375 | AN22: C3F8
B23: HFC-245ca | D23: C3H3F5 | E23: 560 | G23: 윤활유 | H23: ℓ | I23: 40 | J23: 37.3 | K23: 73300 | L23: 73000 | M23: 3 | N23: 3 | O23: 10 | P23: 10 | Q23: 0.6 | R23: 0.6 | T23: 석유제품, 용매, 플라스틱류 | U23: 1 | V23: 0.8 | W23: 0.8 | Y23: 폐가스 | Z23: 2.8512 | AA23: 0.1935 | AB23: =3.87/1000 -> 0.00387 | AI23: 염화비닐 모노머(VCM) | AJ23: 1.407 | AN23: CHF3 | AU23: 0.02
B24: PFC-14 | D24: CF4 | E24: 6500 | G24: 석유코크 | H24: ㎏ | I24: 35 | J24: 34.2 | K24: 97500 | L24: 99700 | M24: 3 | N24: 3 | O24: 10 | P24: 10 | Q24: 0.6 | R24: 0.6 | T24: 폐합성고무 | U24: 0.84 | V24: 0.56 | W24: 0.17 | Y24: 바이오가스(메탄) | Z24: 2.7518 | AA24: 0.252 | AB24: =5.04/1000 -> 0.00504 | AI24: 에틸렌(C2H4) | AJ24: 3.1364 | AL24: PV | AM24: 1-Ui | AP24: 0.7 | AQ24: 0.6 | AR24: 0.4 | AT24: 0.4 | AU24: 0.2 | AV24: 0.4
B25: PFC-116 | D25: C2F6 | E25: 9200 | G25: 부생연료1호 | H25: ℓ | I25: 37.1 | J25: 34.6 | K25: 71900 | L25: 72200 | M25: 3 | N25: 3 | O25: 10 | P25: 10 | Q25: 0.6 | R25: 0.6 | T25: 건설 및 파쇄 잔재물 | U25: 1 | V25: 0.24 | W25: 0.2 | AM25: 부생가스 배출계수 | AN25: CF4 | AQ25: 0.2 | AT25: 0.2 | AU25: 0.1
B26: PFC-218 | D26: C3F8 | E26: 7000 | G26: 부생연료2호 | H26: ℓ | I26: 39.9 | J26: 37.7 | K26: 77400 | L26: 77000 | M26: 3 | N26: 3 | O26: 10 | P26: 10 | Q26: 0.6 | R26: 0.6 | T26: 기타 사업장 폐기물 | U26: 0.9 | V26: 0.04 | W26: 0.03 | AN26: C2F6 | AU26: 0.1
B27: PFC-318 | D27: c-C4F8 | E27: 8700 | G27: 천연가스(LNG) | H27: ㎏ | I27: 54.7 | J27: 49.4 | K27: 56100 | L27: 56100 | M27: 1 | N27: 1 | O27: 5 | P27: 5 | Q27: 0.1 | R27: 0.1 | T27: 하수 슬러지(오니) | U27: 0.1 | V27: 0.45 | W27: 0 | AN27: C3F8
B28: PFC-31-10 | D28: C4F10 | E28: 7000 | G28: 도시가스(LNG) | H28: N㎥ | I28: 43.1 | J28: 38.9 | K28: 56100 | L28: 56100 | M28: 1 | N28: 1 | O28: 5 | P28: 5 | Q28: 0.1 | R28: 0.1 | T28: 폐수 슬러지(오니) | U28: 0.35 | V28: 0.45 | W28: 0
B29: PFC-41-12 | D29: C5F12 | E29: 7500 | G29: 도시가스(LPG) | H29: N㎥ | I29: 63.6 | J29: 58.4 | K29: 63100 | L29: 64500 | M29: 1 | N29: 1 | O29: 5 | P29: 5 | Q29: 0.1 | R29: 0.1 | T29: 의료폐기물 | U29: 0.65 | V29: 0.4 | W29: 0.25
B30: PFC-51-14 | D30: C6F14 | E30: 7400 | G30: 국내무연탄 | H30: ㎏ | I30: 19.8 | J30: 19.4 | K30: 98300 | L30: 112000 | M30: 10 | N30: 1 | O30: 10 | P30: 300 | Q30: 1.5 | R30: 1.5 | AL30: tier2b-식각 | AO30: 배출계수(kg-부생가스/kg-투입가스)
B31: 육불화황 | D31: SF6 | E31: 23900 | G31: 연료용 수입무연탄 | H31: ㎏ | I31: 21.2 | J31: 20.5 | K31: 98300 | L31: 105000 | M31: 10 | N31: 1 | O31: 10 | P31: 300 | Q31: 1.5 | R31: 1.5 | AO31: <선택> | AP31: CF4 | AQ31: C2F6 | AR31: CHF3 | AS31: CH2F2 | AT31: C3F8 | AU31: c-C4F8 | AV31: SF6 | AW31: C4F6 | AX31: C5F8 | AY31: C4F8O
B32: 기타 | D32: 기타 | E32: 0 | G32: 원료용 수입무연탄 | H32: ㎏ | I32: 25.2 | J32: 24.7 | K32: 98300 | L32: 107000 | M32: 10 | N32: 1 | O32: 10 | P32: 300 | Q32: 1.5 | R32: 1.5 | AL32: 반도체 | AM32: 1-Ui | AP32: 0.7 | AQ32: 0.4 | AR32: 0.4 | AS32: 0.06 | AU32: 0.2 | AV32: 0.2 | AW32: 0.1 | AX32: 0.2
B33: Carbon dioxide (이산화탄소) | D33: CO2 | E33: 1 | G33: 유연탄(연료용) | H33: ㎏ | I33: 24.8 | J33: 23.7 | K33: 94600 | L33: 95300 | M33: 10 | N33: 1 | O33: 10 | P33: 300 | Q33: 1.5 | R33: 1.5 | AM33: 부생가스 배출계수 | AN33: CF4 | AQ33: 0.4 | AR33: 0.07 | AS33: 0.08 | AU33: 0.2 | AW33: 0.3 | AX33: 0.2
B34: Methane (메탄) | D34: CH4 | E34: 21 | G34: 유연탄(원료용) | H34: ㎏ | I34: 29.2 | J34: 28 | K34: 94600 | L34: 96100 | M34: 10 | N34: 1 | O34: 10 | P34: 300 | Q34: 1.5 | R34: 1.5 | AN34: C2F6 | AU34: 0.2 | AW34: 0.2 | AX34: 0.2
G35: 아역청탄 | H35: ㎏ | I35: 21.4 | J35: 19.9 | K35: 96100 | L35: 96100 | M35: 10 | N35: 1 | O35: 10 | P35: 300 | Q35: 1.5 | R35: 1.5 | AL35: LCD | AM35: 1-Ui | AP35: 0.6 | AR35: 0.2 | AU35: 0.1 | AV35: 0.3
G36: 코크스(석탄) | H36: ㎏ | I36: 29 | J36: 28.9 | K36: 107000 | M36: 10 | N36: 1 | O36: 10 | P36: 300 | Q36: 1.5 | R36: 1.5 | T36: [표4] 철강생산 배출계수 | AM36: 부생가스 배출계수 | AN36: CF4 | AR36: 0.07 | AU36: 0.009
G37: 전력 | H37: ㎾h | I37: 9.6 | J37: 9.6 | K37: 0.4567 | L37: 0.4567 | M37: 0.0036 | N37: 0.0036 | O37: 0.0036 | P37: 0.0036 | Q37: 0.0085 | R37: 0.0085 | AN37: C2F6 | AR37: 0.05
AN38: CHF3 | AU38: 0.02
G39: [이동연소] | AL39: PV | AM39: 1-Ui | AP39: 0.7 | AQ39: 0.4 | AR39: 0.4 | AU39: 0.2 | AV39: 0.4
G40: 연 료 | H40: 단위 | I40: 총발열량 | J40: 순발열량 | K40: 배출계수 | T40: 공정과정 | U40: CO2 배출계수 | V40: CH4 배출계수 | Y40: 원료 및 생산물 | Z40: CO2 배출계수 | AM40: 부생가스 배출계수 | AN40: CF4 | AQ40: 0.2 | AU40: 0.1
I41: MJ값 | J41: MJ 환산 | K41: CO2 (kgCO2/TJ) | L41: CH4 (kgCH4/TJ) | M41: N2O (kgN2O/TJ) | T41: <선택> | Y41: <선택> | AN41: C2F6 | AU41: 0.1
G42: <선택> | T42: 코크스 생산량 | U42: 0.56 | V42: 0.0001 | Y42: 고로가스(BFG) | Z42: 0.6229
G43: 휘발유 | H43: ℓ | I43: 32.6 | J43: 30.3 | K43: 69300 | L43: 25 | M43: 8 | T43: 소결물 생산량 | U43: 0.2 | V43: 7e-05 | Y43: 석탄 | Z43: 2.4549
...

Sheet 참고1. 배출계수
B1: 참고1. 배출계수
B2: 사용연료 | C2: 연료 사용량 | D2: 단위 | E2: 순발열량 | F2: 단위 | G2: 산화계수 | H2: CO2(ton) | I2: CH4(ton) | J2: N2O(ton) | K2: 총발열량 | L2: 단위 | M2: 석유환산톤(toe) | N2: 국가시스템 입력 | O2: 단위 | Q2: 감축설비 목록
B3: 원유 | C3: 1 | D3: ton | E3: 0.0422 | F3: TJ/ton | G3: 1 | H3: 3.26628 | I3: 0.0001266 | J3: 2.532e-05 | K3: 0.045 | L3: TJ/ton | M3: 1.075 | N3: 44900 | O3: MJ/ton | Q3: 1. 폐열회수 이용설비
B4: 휘발유 | C4: 1 | D4: ㎘ | E4: 0.0304 | F4: TJ/㎘ | G4: 1 | H4: 2.09979 | I4: 9.09e-05 | J4: 1.818e-05 | K4: 0.0327 | L4: TJ/㎘ | M4: 0.781 | N4: 32600 | O4: MJ/㎘ | Q4: 2. 차압터빈시스템
B5: 실내 등유 | C5: 1 | D5: ㎘ | E5: 0.0342 | F5: TJ/㎘ | G5: 1 | H5: 2.46617 | I5: 0.0001029 | J5: 2.058e-05 | K5: 0.0367 | L5: TJ/㎘ | M5: 0.877 | N5: 36700 | O5: MJ/㎘ | Q5: 3. 인버터
B6: 보일러 등유 | C6: 1 | D6: ㎘ | E6: 0.0342 | F6: TJ/㎘ | G6: 1 | H6: 2.46617 | I6: 0.0001029 | J6: 2.058e-05 | K6: 0.0367 | L6: TJ/㎘ | M6: 0.877 | N6: 36700 | O6: MJ/㎘ | Q6: 4. 고효율 펌프
B7: 가스/디젤 오일(경유) | C7: 1 | D7: ㎘ | E7: 0.0352 | F7: TJ/㎘ | G7: 1 | H7: 2.61573 | I7: 0.0001059 | J7: 2.118e-05 | K7: 0.0378 | L7: TJ/㎘ | M7: 0.903 | N7: 37800 | O7: MJ/㎘ | Q7: 5. 고효율 원심식‧스크류 냉동기
B8: B-A유 | C8: 1 | D8: ㎘ | E8: 0.0364 | F8: TJ/㎘ | G8: 1 | H8: =E8*75100/10^3 -> 2.73364 | I8: 0.0001092 | J8: 2.184e-05 | K8: 0.039 | L8: TJ/㎘ | M8: 0.931 | N8: 39000 | O8: MJ/㎘ | Q8: 6. 고효율 터보블로어
B9: B-B유 | C9: 1 | D9: ㎘ | E9: 0.038 | F9: TJ/㎘ | G9: 1 | H9: 2.9412 | I9: 0.000114 | J9: 2.28e-05 | K9: 0.0405 | L9: TJ/㎘ | M9: 0.967 | N9: 40500 | O9: MJ/㎘ | Q9: 7. 고효율 가스히트펌프
B10: B-C유 | C10: 1 | D10: ㎘ | E10: 0.0392 | F10: TJ/㎘ | G10: 1 | H10: 3.03408 | I10: 0.0001176 | J10: 2.352e-05 | K10: 0.0417 | L10: TJ/㎘ | M10: 0.996 | N10: 41700 | O10: MJ/㎘ | Q10: 8. 최적운전 자동제어시스템
B11: 프로판 | C11: 1 | D11: ton | E11: 0.0463 | F11: TJ/ton | G11: 1 | H11: 2.92153 | I11: 4.63e-05 | J11: 4.63e-06 | K11: 0.0504 | L11: TJ/ton | M11: 1.204 | N11: 50400 | O11: MJ/ton | Q11: 9. 유체커플링
B12: 나프타 | C12: 1 | D12: ㎘ | E12: 0.0303 | F12: TJ/㎘ | G12: 1 | H12: 2.34522 | I12: 9.09e-05 | J12: 1.818e-05 | K12: 0.0323 | L12: TJ/㎘ | M12: 0.771 | N12: 32300 | O12: MJ/㎘ | Q12: 10. 인버터 제어형 압축기
B13: 부생연료1호1) | C13: 1 | D13: ㎘ | E13: 0.0346 | F13: TJ/㎘ | G13: 1 | H13: 2.46617 | I13: 0.0001029 | J13: 2.058e-05 | K13: 0.0371 | L13: TJ/㎘ | M13: 0.886 | N13: 37100 | O13: MJ/㎘ | Q13: 11. 에너지절약형 가열로 및 열처리로
B14: 부생연료2호2) | C14: 1 | D14: ㎘ | E14: 0.0377 | F14: TJ/㎘ | G14: 1 | H14: 2.77807 | I14: 0.0001137 | J14: 2.274e-05 | K14: 0.0399 | L14: TJ/㎘ | M14: 0.953 | N14: 39900 | O14: MJ/㎘ | Q14: 12. 목재펠릿 연료전환
B15: 천연가스(LNG) | C15: 1 | D15: ton | E15: 0.0494 | F15: TJ/ton | G15: 1 | H15: 2.76573 | I15: 4.93e-05 | J15: 4.93e-06 | K15: 0.0547 | L15: TJ/ton | M15: 1.306 | N15: 54700 | O15: MJ/ton | Q15: 13. 연료전환
B16: 도시가스(LNG) | C16: 1 | D16: 천㎥ | E16: 3.89e-05 | F16: TJ/N㎥ | G16: 1 | H16: 2.21034 | I16: 3.94e-05 | J16: 3.94e-06 | K16: 4.31e-05 | L16: TJ/N㎥ | M16: 0.001 | N16: 43100 | O16: MJ/천㎥ | Q16: 14. 공정가스 설비
B17: 도시가스(LPG) | C17: 1 | D17: 천㎥ | E17: 5.84e-05 | F17: TJ/N㎥ | G17: 1 | H17: 3.64087 | I17: 5.77e-05 | J17: 5.77e-06 | K17: 6.36e-05 | L17: TJ/N㎥ | M17: 0.002 | N17: 63600 | O17: MJ/천㎥ | Q17: 15. 공정 부생가스 이용장치
B18: 국내무연탄 | C18: 1 | D18: ton | E18: 0.0194 | F18: TJ/ton | G18: 1 | H18: 1.82838 | I18: 0.000186 | J18: 2.79e-05 | K18: 0.0198 | L18: TJ/ton | M18: 0.473 | N18: 19800 | O18: MJ/ton | Q18: 16. 증기재압축장치
B19: 수입무연탄 | C19: 1 | D19: ton | E19: 0.0247 | F19: TJ/ton | G19: 1 | H19: 2.39852 | I19: 0.000244 | J19: 3.66e-05 | K19: 0.0252 | L19: TJ/ton | M19: 0.602 | N19: 25200 | O19: MJ/ton | Q19: 17. 기타
B20: 유연탄(연료용) | C20: 1 | D20: ton | E20: 0.0237 | F20: TJ/ton | G20: 1 | H20: 2.33662 | I20: 0.000247 | J20: 3.705e-05 | K20: 0.0248 | L20: TJ/ton | M20: 0.592 | N20: 24800 | O20: MJ/ton
B21: 유연탄(원료용) | C21: 1 | D21: ton | E21: 0.028 | F21: TJ/ton | G21: 1 | H21: 2.66772 | I21: 0.000282 | J21: 4.23e-05 | K21: 0.0292 | L21: TJ/ton | M21: 0.697 | N21: 29200 | O21: MJ/ton
B22: 아역청탄 | C22: 1 | D22: ton | E22: 0.0199 | F22: TJ/ton | G22: 1 | H22: 2.77729 | I22: 0.000289 | J22: 4.335e-05 | K22: 0.0214 | L22: TJ/ton | M22: 0.511 | N22: 21400 | O22: MJ/ton
B23: 코크스 | C23: 1 | D23: ton | E23: 0.0289 | F23: TJ/ton | G23: 1 | H23: 3.0923 | I23: 0.000289 | J23: 4.335e-05 | K23: 0.029 | L23: TJ/ton | M23: 0.693 | N23: 29000 | O23: MJ/ton
B24: 전력(발전기준) | C24: 1 | D24: kWh | E24: 0.0089 | F24: TJ/MWh | G24: 1 | H24: 0.0004653 | I24: 5.4e-09 | J24: 2.7e-09 | K24: 0.0089 | L24: TJ/MWh | M24: 0.00021 | N24: 8.9 | O24: MJ/kWh
B25: 전기 | C25: 1 | D25: kWh | E25: 0.0096 | F25: TJ/MWh | G25: 1 | H25: 0.0004567 | I25: 3.6e-09 | J25: 8.5e-09 | K25: 0.0096 | L25: TJ/MWh | M25: 0.00023 | N25: 9.6 | O25: MJ/kWh
B26: 기타
