Workbook

Sheet ①구성 및 소개
B4: 작성 안내
C5: 가. 개발목적
C6: - 본 Tool은 산업발전부문 『배출권거래제 참여기업 온실가스•에너지 감축설비 지원사업』의 에너지 절감량 및 온실가스 감축효과 산출을 위해 개발됨
C7: - 본 Tool에 의해 산출된 감축량은 온실가스•에너지 감축설비 지원사업 신청 시 활용할 수 있음
C8: 나. 작성방법
C9: 감축설비 종류 | E9: 작성 시트 | F9: 작성 Tip
C10: 인버터 제어형 압축기 | E10: [인버터 제어형 압축기] | F10: - 에너지사용량 현황을 개선 전후 설비별로 입력(자동산정) - 인버터 등 제어설비가 설치된 경우, 인버터 연결(부착) 설비의 사용량과 인버터 자체의 사용량을 함께 기재(자동산정)
C11: 인버터 제어형 압축기 외 감축설비 | E11: [압축기 외 감축설비] | F11: - 에너지사용량 현황을 개선 전후 설비별로 입력(자동산정) - 인버터 등 제어설비가 설치된 경우, 인버터 연결(부착) 설비의 사용량과 인버터 자체의 사용량을 함께 기재(자동산정) - 사용 에너지원이 2개 이상인 경우, 각 에너지원별 사용량을 기재(자동산정)
F12: * 사용연료 '기타'의 경우 해당 연료에 대한 매개변수를 [참고1. 배출계수]에 직접 입력
C13: 다. 제출방법
C14: - 작성 후 e나라도움 사업계획 제출 시 함께 제출 (※ 파일명 : 감축효과 산출 Tool_업체명(사업장명)_감축설비명.xls) - 입력값에 대한 증빙 혹은 산출근거 제출 필수

Sheet ②인버터 제어형 압축기
N2: ※ 입력값에 대한 증빙 혹은 산출근거 제출 필수
N4: ≪ 설비 개선 전 ≫
B5: 업체명(사업장명) | L5: 직접입력 항목
B6: 감축설비명 | D6: 10. 인버터 제어형 압축기 | L6: 선택입력 항목 | N6: (설비)모델명 | O6: 설비 용량 | P6: 용량 단위 | Q6: 사용 연료 | R6: Loading | T6: UnLoading | V6: 연간 연료사용량 | W6: 단위
B7: 총 사업비 | G7: 백만원 | L7: 고정 및 자동항목 | R7: 전력(kW) | S7: 연간 운전시간(hr/년) | T7: 전력(kW) | U7: 연간 운전시간(hr/년)
P8: =$D$12 -> kW | Q8: =$E$14 -> 전기 | V8: =(R8*S8)+(T8*U8) -> 0 | W8: =CONCATENATE(P8,"h/년") -> kWh/년
B9: 1. 에너지 사용 현황 | D9: ≪ 개선 전 ≫ | G9: ≪ 개선 후 ≫ | J9: ≪ 기대 효과 ≫ | P9: =$D$12 -> kW | Q9: =$E$14 -> 전기 | V9: =(R9*S9)+(T9*U9) -> 0 | W9: =CONCATENATE(P9,"h/년") -> kWh/년
P10: =$D$12 -> kW | Q10: =$E$14 -> 전기 | V10: =(R10*S10)+(T10*U10) -> 0 | W10: =CONCATENATE(P10,"h/년") -> kWh/년
B11: 구분 | D11: 단위 | E11: 데이터 | G11: 단위 | H11: 데이터 | J11: 사용 연료 | K11: 단위 | L11: 사용 연료 단가 | P11: =$D$12 -> kW | Q11: =$E$14 -> 전기 | V11: =(R11*S11)+(T11*U11) -> 0 | W11: =CONCATENATE(P11,"h/년") -> kWh/년
B12: 설비 합계용량 | D12: =IF(D14="kWh","kW",D14) -> kW | E12: =O13 -> 0 | G12: =IF(G14="kWh","kW",G14) -> kW | H12: =O24 -> 0 | J12: =E14 -> 전기 | K12: =CONCATENATE("원/",D14) -> 원/kWh | P12: =$D$12 -> kW | Q12: =$E$14 -> 전기 | V12: =(R12*S12)+(T12*U12) -> 0 | W12: =CONCATENATE(P12,"h/년") -> kWh/년
B13: 운전대수 | D13: 대 | E13: =COUNTA($N$8:N12) -> 0 | G13: 대 | H13: =COUNTA($N$19:N23) -> 0 | J13: 구분 | K13: 단위 | L13: 데이터 | N13: 합 계 | O13: =SUM(O8:O12) -> 0 | P13: =$D$12 -> kW | V13: =SUM(V8:V12) -> 0 | W13: =CONCATENATE(P13,"h/년") -> kWh/년
B14: 사용 연료 | D14: =VLOOKUP($E14,'참고1. 배출계수'!$B$2:$D$26,3,0) -> kWh | E14: 전기 | G14: =VLOOKUP($H14,'참고1. 배출계수'!$B$2:$D$26,3,0) -> kWh | H14: 전기 | J14: 절감금액 | K14: 백만원/년 | L14: =(E15*L12-H15*L12)/1000000 -> 0
B15: 연간 사용량 | D15: =CONCATENATE(D14,"/년") -> kWh/년 | E15: =V13 -> 0 | G15: =CONCATENATE(G14,"/년") -> kWh/년 | H15: =V24 -> 0 | J15: 투자비회수기간 | K15: 년 | L15: =L14/D7 -> #DIV/0! | N15: ≪ 설비 개선 후 ≫
J16: 연간 기대효과 | K16: toe/백만원.년 | L16: =L24/D7 -> #DIV/0!
B17: 2. 감축효과 산정 | N17: (설비)모델명 | O17: 설비 용량 | P17: 용량 단위 | Q17: 사용 연료 | R17: Loading | T17: UnLoading | V17: 연간 연료사용량 | W17: 단위
R18: 전력(kW) | S18: 연간 운전시간(hr/년) | T18: 전력(kW) | U18: 연간 운전시간(hr/년)
B19: 구분 | D19: 단위 | E19: 데이터 | G19: 단위 | H19: 데이터 | J19: 구분 | K19: 단위 | L19: 데이터 | P19: =$G$12 -> kW | Q19: =$E$14 -> 전기 | V19: =(R19*S19)+(T19*U19) -> 0 | W19: =CONCATENATE(P19,"h/년") -> kWh/년
B20: CO2 | D20: tCO2 | E20: =ROUND(E$15,3)*VLOOKUP(E$14,'참고1. 배출계수'!$B$2:$O$26,7,FALSE) -> 0 | G20: tCO2 | H20: =ROUND(H$15,3)*VLOOKUP(H$14,'참고1. 배출계수'!$B$2:$O$26,7,FALSE) -> 0 | J20: CO2 | K20: tCO2 | L20: =E20-H20 -> 0 | P20: =$G$12 -> kW | Q20: =$E$14 -> 전기 | V20: =(R20*S20)+(T20*U20) -> 0 | W20: =CONCATENATE(P20,"h/년") -> kWh/년
B21: CH4 | D21: tCH4 | E21: =ROUND(E$15,3)*VLOOKUP(E$14,'참고1. 배출계수'!$B$2:$O$26,8,FALSE) -> 0 | G21: tCH4 | H21: =ROUND(H$15,3)*VLOOKUP(H$14,'참고1. 배출계수'!$B$2:$O$26,8,FALSE) -> 0 | J21: CH4 | K21: tCH4 | L21: =E21-H21 -> 0 | P21: =$G$12 -> kW | Q21: =$E$14 -> 전기 | V21: =(R21*S21)+(T21*U21) -> 0 | W21: =CONCATENATE(P21,"h/년") -> kWh/년
B22: N2O | D22: tN2O | E22: =ROUND(E$15,3)*VLOOKUP(E$14,'참고1. 배출계수'!$B$2:$O$26,9,FALSE) -> 0 | G22: tN2O | H22: =ROUND(H$15,3)*VLOOKUP(H$14,'참고1. 배출계수'!$B$2:$O$26,9,FALSE) -> 0 | J22: N2O | K22: tN2O | L22: =E22-H22 -> 0 | P22: =$G$12 -> kW | Q22: =$E$14 -> 전기 | V22: =(R22*S22)+(T22*U22) -> 0 | W22: =CONCATENATE(P22,"h/년") -> kWh/년
B23: 온실가스 배출량 | D23: tCO2eq | E23: =ROUNDDOWN(E20*1+E21*21+E22*310,0) -> 0 | G23: tCO2eq | H23: =ROUNDDOWN(H20*1+H21*21+H22*310,0) -> 0 | J23: 온실가스 감축량 | K23: tCO2eq | L23: =E23-H23 -> 0 | P23: =$G$12 -> kW | Q23: =$E$14 -> 전기 | V23: =(R23*S23)+(T23*U23) -> 0 | W23: =CONCATENATE(P23,"h/년") -> kWh/년
B24: 에너지 소비량 | D24: toe | E24: =ROUND(E$15,3)*VLOOKUP(E$14,'참고1. 배출계수'!$B$2:$O$26,12,FALSE) -> 0 | G24: toe | H24: =ROUND(H$15,3)*VLOOKUP(H$14,'참고1. 배출계수'!$B$2:$O$26,12,FALSE) -> 0 | J24: 에너지 절감량 | K24: toe | L24: =E24-H24 -> 0 | N24: 합 계 | O24: =SUM(O19:O23) -> 0 | P24: =$G$12 -> kW | V24: =SUM(V19:V23) -> 0 | W24: =CONCATENATE(P24,"h/년") -> kWh/년
B26: 입력방법
B27: ① 설비 용량 : 교체대상 / 지원대상 설비의 용량 입력 ② Loading 전력 - 개선 전 : 교체대상 설비의 Loading 시 전력 사용량 평균치로 실제 운전치 기준 데이터 입력 - 개선 후 : 지원대상 설비의 Loading 시 전력 사용량 평균치로 예상 운전치 기준 데이터 입력 ③ UnLoading 전력 - 개선 전 : 교체대상 설비의 Unloading 시 전력 사용량 평균치로 실제 운전치 기준 데이터 입력 - 개선 후 : 지원대상 설비의 Unloading 시 전력 사용량 평균치로 예상 운전치 기준 데이터 입력 | K27: ④ 연간 Loading / Unloading 운전시간 - 교체대상 설비의 Loading / Unloading 연간 운전시간 입력 ⑤ 사용 연료 단가 : 작성 시점의 연료 단가

Sheet ③압축기외 감축설비
N2: ※ 입력값에 대한 증빙 혹은 산출근거 제출 필수
B4: 업체명(사업장명) | L4: 직접입력 항목 | N4: ≪ 설비 개선 전 ≫
B5: 감축설비명 | L5: 선택입력 항목
B6: 총 사업비 | G6: 백만원 | L6: 고정 및 자동항목 | N6: 설비명 | O6: 설비 용량 | P6: 용량 단위 | Q6: 시간당 연료사용량 | R6: 단위 | S6: 연간 운전시간(hr) | T6: 연간 연료사용량 | U6: 단위 | W6: 평균부하율 (%) | X6: 설비효율 (%)
B8: 1. 에너지 사용 현황 | D8: ≪ 개선 전 ≫ | G8: ≪ 개선 후 ≫ | J8: ≪ 기대 효과 ≫ | P8: =$D$12 -> 천㎥ | R8: =CONCATENATE(P8,"/hr") -> 천㎥/hr | T8: =Q8*S8 -> 0 | U8: =CONCATENATE(P8,"/년") -> 천㎥/년
P9: =$D$12 -> 천㎥ | R9: =CONCATENATE(P9,"/hr") -> 천㎥/hr | T9: =Q9*S9 -> 0 | U9: =CONCATENATE(P9,"/년") -> 천㎥/년
B10: 구분 | D10: 단위 | E10: 데이터 | G10: 단위 | H10: 데이터 | J10: 사용 연료 | K10: 단위 | L10: 사용 연료 단가 | P10: =$D$12 -> 천㎥ | R10: =CONCATENATE(P10,"/hr") -> 천㎥/hr | T10: =Q10*S10 -> 0 | U10: =CONCATENATE(P10,"/년") -> 천㎥/년
B11: 운전대수 | D11: 대 | E11: =COUNTA($N$8:N13) -> 0 | G11: 대 | H11: =COUNTA($N$20:N24) -> 0 | J11: 개선 전 | P11: =$D$12 -> 천㎥ | R11: =CONCATENATE(P11,"/hr") -> 천㎥/hr | T11: =Q11*S11 -> 0 | U11: =CONCATENATE(P11,"/년") -> 천㎥/년
B12: 사용 연료 | D12: =VLOOKUP($E12,'참고1. 배출계수'!$B$2:$D$26,3,0) -> 천㎥ | E12: 도시가스(LNG) | G12: =VLOOKUP($H12,'참고1. 배출계수'!$B$2:$D$26,3,0) -> 천㎥ | H12: 도시가스(LNG) | J12: =E12 -> 도시가스(LNG) | K12: =CONCATENATE("원/",D12) -> 원/천㎥ | P12: =$D$12 -> 천㎥ | R12: =CONCATENATE(P12,"/hr") -> 천㎥/hr | U12: =CONCATENATE(P12,"/년") -> 천㎥/년
B13: 연간 사용량 | D13: =CONCATENATE(D12,"/년") -> 천㎥/년 | E13: =T14 -> 0 | G13: =CONCATENATE(G12,"/년") -> 천㎥/년 | H13: =T25 -> 0 | J13: 개선 후 | P13: =$D$12 -> 천㎥ | R13: =CONCATENATE(P13,"/hr") -> 천㎥/hr | T13: =Q13*S13 -> 0 | U13: =CONCATENATE(P13,"/년") -> 천㎥/년
J14: =H12 -> 도시가스(LNG) | K14: =CONCATENATE("원/",G12) -> 원/천㎥ | N14: 합 계 | P14: =$D$12 -> 천㎥ | T14: =SUM(T8:T13) -> 0 | U14: =CONCATENATE(P14,"/년") -> 천㎥/년
J16: 구분 | K16: 단위 | L16: 데이터 | N16: ≪ 설비 개선 후 ≫
J17: 절감금액 | K17: 백만원/년 | L17: =(E13*L12-H13*L14)/1000000 -> 0
J18: 투자비회수기간 | K18: 년 | L18: =L17/D6 -> #DIV/0! | N18: 설비명 | O18: 설비 용량 | P18: 용량 단위 | Q18: 시간당 연료사용량 | R18: 단위 | S18: 연간 운전시간(hr) | T18: 연간 연료사용량 | U18: 단위 | W18: 평균부하율 (%) | X18: 설비효율 (%)
B19: 2. 감축효과 산정 | J19: 연간 기대효과 | K19: toe/백만원.년 | L19: =L26/D6 -> #DIV/0!
P20: =$G$12 -> 천㎥ | R20: =CONCATENATE(P20,"/hr") -> 천㎥/hr | T20: =Q20*S20 -> 0 | U20: =CONCATENATE(P20,"/년") -> 천㎥/년
B21: 구분 | D21: 단위 | E21: 데이터 | G21: 단위 | H21: 데이터 | J21: 구분 | K21: 단위 | L21: 데이터 | P21: =$G$12 -> 천㎥ | R21: =CONCATENATE(P21,"/hr") -> 천㎥/hr | T21: =Q21*S21 -> 0 | U21: =CONCATENATE(P21,"/년") -> 천㎥/년
B22: CO2 | D22: tCO2 | E22: =ROUND(E$13,3)*VLOOKUP(E$12,'참고1. 배출계수'!$B$2:$O$26,7,FALSE) -> 0 | G22: tCO2 | H22: =ROUND(H$13,3)*VLOOKUP(H$12,'참고1. 배출계수'!$B$2:$O$26,7,FALSE) -> 0 | J22: CO2 | K22: tCO2 | L22: =E22-H22 -> 0 | P22: =$G$12 -> 천㎥ | R22: =CONCATENATE(P22,"/hr") -> 천㎥/hr | T22: =Q22*S22 -> 0 | U22: =CONCATENATE(P22,"/년") -> 천㎥/년
B23: CH4 | D23: tCH4 | E23: =ROUND(E$13,3)*VLOOKUP(E$12,'참고1. 배출계수'!$B$2:$O$26,8,FALSE) -> 0 | G23: tCH4 | H23: =ROUND(H$13,3)*VLOOKUP(H$12,'참고1. 배출계수'!$B$2:$O$26,8,FALSE) -> 0 | J23: CH4 | K23: tCH4 | L23: =E23-H23 -> 0 | P23: =$G$12 -> 천㎥ | R23: =CONCATENATE(P23,"/hr") -> 천㎥/hr | T23: =Q23*S23 -> 0 | U23: =CONCATENATE(P23,"/년") -> 천㎥/년
B24: N2O | D24: tN2O | E24: =ROUND(E$13,3)*VLOOKUP(E$12,'참고1. 배출계수'!$B$2:$O$26,9,FALSE) -> 0 | G24: tN2O | H24: =ROUND(H$13,3)*VLOOKUP(H$12,'참고1. 배출계수'!$B$2:$O$26,9,FALSE) -> 0 | J24: N2O | K24: tN2O | L24: =E24-H24 -> 0 | P24: =$G$12 -> 천㎥ | R24: =CONCATENATE(P24,"/hr") -> 천㎥/hr | T24: =Q24*S24 -> 0 | U24: =CONCATENATE(P24,"/년") -> 천㎥/년
B25: 온실가스 배출량 | D25: tCO2eq | E25: =ROUNDDOWN(E22*1+E23*21+E24*310,0) -> 0 | G25: tCO2eq | H25: =ROUNDDOWN(H22*1+H23*21+H24*310,0) -> 0 | J25: 온실가스 감축량 | K25: tCO2eq | L25: =E25-H25 -> 0 | N25: 합 계 | P25: =$G$12 -> 천㎥ | T25: =SUM(T20:T24) -> 0 | U25: =CONCATENATE(P25,"/년") -> 천㎥/년
B26: 에너지 소비량 | D26: toe | E26: =ROUND(E$13,3)*VLOOKUP(E$12,'참고1. 배출계수'!$B$2:$O$26,12,FALSE) -> 0 | G26: toe | H26: =ROUND(H$13,3)*VLOOKUP(H$12,'참고1. 배출계수'!$B$2:$O$26,12,FALSE) -> 0 | J26: 에너지 절감량 | K26: toe | L26: =E26-H26 -> 0
B28: 입력방법
B29: ① 설비 단위용량 : 교체대상 / 지원대상 설비의 용량 입력 ② 사용 연료 : 교체대상 / 지원대상 설비의 사용 연료 선택 ③ 시간당 연료사용량 - 개선 전 : 교체대상 설비의 연료사용량 평균치로 실제 운전치 기준 데이터 입력 - 개선 후 : 지원대상 설비의 사양 기반 데이터 입력 | K29: ④ 연간 운전시간 : 교체전/후 설비의 연간 설비 운전시간 입력 ⑤ 설비효율 : 설비 디자인(설계) 효율 입력 ⑥ 사용 연료 단가 : 작성시점의 연료단가 입력

Sheet 참고1. 배출계수
B1: 참고1. 배출계수
B2: 사용연료 | C2: 연료 사용량 | D2: 단위 | E2: 순발열량 | F2: 단위 | G2: 산화계수 | H2: CO2(ton) | I2: CH4(ton) | J2: N2O(ton) | K2: 총발열량 | L2: 단위 | M2: 석유환산톤(toe) | N2: 국가시스템 입력 | O2: 단위 | Q2: 감축설비 목록
B3: 원유 | C3: 1 | D3: ton | E3: 0.0422 | F3: TJ/ton | G3: 1 | H3: 3.09326 | I3: 0.0001266 | J3: 2.532e-05 | K3: 0.045 | L3: TJ/ton | M3: 1.075 | N3: 44900 | O3: MJ/ton | Q3: 1. 폐열회수 이용설비
B4: 휘발유 | C4: 1 | D4: ㎘ | E4: 0.0304 | F4: TJ/㎘ | G4: 1 | H4: 2.10672 | I4: 9.12e-05 | J4: 1.824e-05 | K4: 0.0327 | L4: TJ/㎘ | M4: 0.781 | N4: 32600 | O4: MJ/㎘ | Q4: 2. 차압터빈시스템
B5: 실내 등유 | C5: 1 | D5: ㎘ | E5: 0.0342 | F5: TJ/㎘ | G5: 1 | H5: 2.45898 | I5: 0.0001026 | J5: 2.052e-05 | K5: 0.0367 | L5: TJ/㎘ | M5: 0.877 | N5: 36700 | O5: MJ/㎘ | Q5: 3. 인버터
B6: 보일러 등유 | C6: 1 | D6: ㎘ | E6: 0.0342 | F6: TJ/㎘ | G6: 1 | H6: 2.45898 | I6: 0.0001026 | J6: 2.052e-05 | K6: 0.0367 | L6: TJ/㎘ | M6: 0.877 | N6: 36700 | O6: MJ/㎘ | Q6: 4. 고효율 펌프
B7: 가스/디젤 오일(경유) | C7: 1 | D7: ㎘ | E7: 0.0352 | F7: TJ/㎘ | G7: 1 | H7: 2.60832 | I7: 0.0001056 | J7: 2.112e-05 | K7: 0.0378 | L7: TJ/㎘ | M7: 0.903 | N7: 37800 | O7: MJ/㎘ | Q7: 5. 고효율 원심식‧스크류 냉동기
B8: B-A유 | C8: 1 | D8: ㎘ | E8: 0.0364 | F8: TJ/㎘ | G8: 1 | H8: 2.73364 | I8: 0.0001092 | J8: 2.184e-05 | K8: 0.039 | L8: TJ/㎘ | M8: 0.931 | N8: 39000 | O8: MJ/㎘ | Q8: 6. 고효율 터보블로어
B9: B-B유 | C9: 1 | D9: ㎘ | E9: 0.038 | F9: TJ/㎘ | G9: 1 | H9: 2.9032 | I9: 0.000114 | J9: 2.28e-05 | K9: 0.0405 | L9: TJ/㎘ | M9: 0.967 | N9: 40500 | O9: MJ/㎘ | Q9: 7. 고효율 가스히트펌프
B10: B-C유 | C10: 1 | D10: ㎘ | E10: 0.0392 | F10: TJ/㎘ | G10: 1 | H10: 3.03408 | I10: 0.0001176 | J10: 2.352e-05 | K10: 0.0417 | L10: TJ/㎘ | M10: 0.996 | N10: 41700 | O10: MJ/㎘ | Q10: 8. 최적운전 자동제어시스템
B11: 프로판 | C11: 1 | D11: ton | E11: 0.0463 | F11: TJ/ton | G11: 1 | H11: 2.92153 | I11: 4.63e-05 | J11: 4.63e-06 | K11: 0.0504 | L11: TJ/ton | M11: 1.204 | N11: 50400 | O11: MJ/ton | Q11: 9. 유체커플링
B12: 나프타 | C12: 1 | D12: ㎘ | E12: 0.0303 | F12: TJ/㎘ | G12: 1 | H12: 2.22099 | I12: 9.09e-05 | J12: 1.818e-05 | K12: 0.0323 | L12: TJ/㎘ | M12: 0.771 | N12: 32300 | O12: MJ/㎘ | Q12: 10. 인버터 제어형 압축기
B13: 부생연료1호1) | C13: 1 | D13: ㎘ | E13: 0.0346 | F13: TJ/㎘ | G13: 1 | H13: 2.48774 | I13: 0.0001038 | J13: 2.076e-05 | K13: 0.0371 | L13: TJ/㎘ | M13: 0.886 | N13: 37100 | O13: MJ/㎘ | Q13: 11. 에너지절약형 가열로 및 열처리로
B14: 부생연료2호2) | C14: 1 | D14: ㎘ | E14: 0.0377 | F14: TJ/㎘ | G14: 1 | H14: 2.91798 | I14: 0.0001131 | J14: 2.262e-05 | K14: 0.0399 | L14: TJ/㎘ | M14: 0.953 | N14: 39900 | O14: MJ/㎘ | Q14: 12. 목재펠릿 연료전환
... B19: 수입무연탄 | C19: 1 | D19: ton | E19: 0.0247 | F19: TJ/ton | G19: 1 | H19: 2.42801 | I19: 0.000247 | J19: 3.705e-05 | K19: 0.0252 | L19: TJ/ton | M19: 0.602 | N19: 25200 | O19: MJ/ton | Q19: 17. 기타
B20: 유연탄(연료용) | C20: 1 | D20: ton | E20: 0.0237 | F20: TJ/ton | G20: 1 | H20: 2.24202 | I20: 0.000237 | J20: 3.555e-05 | K20: 0.0248 | L20: TJ/ton | M20: 0.592 | N20: 24800 | O20: MJ/ton
B21: 유연탄(원료용) | C21: 1 | D21: ton | E21: 0.028 | F21: TJ/ton | G21: 1 | H21: 2.6488 | I21: 0.00028 | J21: 4.2e-05 | K21: 0.0292 | L21: TJ/ton | M21: 0.697 | N21: 29200 | O21: MJ/ton
B22: 아역청탄 | C22: 1 | D22: ton | E22: 0.0199 | F22: TJ/ton | G22: 1 | H22: 1.91239 | I22: 0.000199 | J22: 2.985e-05 | K22: 0.0214 | L22: TJ/ton | M22: 0.511 | N22: 21400 | O22: MJ/ton
B23: 코크스 | C23: 1 | D23: ton | E23: 0.0289 | F23: TJ/ton | G23: 1 | H23: 3.0923 | I23: 0.000289 | J23: 4.335e-05 | K23: 0.029 | L23: TJ/ton | M23: 0.693 | N23: 29000 | O23: MJ/ton
B24: 전력(발전기준) | C24: 1 | D24: kWh | E24: 0.0089 | F24: TJ/MWh | G24: 1 | H24: 0.0004653 | I24: 5.4e-09 | J24: 2.7e-09 | K24: 0.0089 | L24: TJ/MWh | M24: 0.00021 | N24: 8.9 | O24: MJ/kWh
B25: 전기 | C25: 1 | D25: kWh | E25: 0.0096 | F25: TJ/MWh | G25: 1 | H25: 0.0004567 | I25: 3.6e-09 | J25: 8.5e-09 | K25: 0.0096 | L25: TJ/MWh | M25: 0.00023 | N25: 9.6 | O25: MJ/kWh
B26: 기타
H28: =H25*'②인버터 제어형 압축기'!E15 -> 0 | I28: =I25*'②인버터 제어형 압축기'!E15 -> 0 | J28: =J25*'②인버터 제어형 압축기'!E15 -> 0
I29: =I28*21 -> 0 | J29: =J28*310 -> 0
H30: =H28+I29+J29 -> 0
