Workbook

Sheet 신청서
A1: 소형도서 재생에너지 전환사업 신청서
A3: 지자체명 | C3: ○○군 | F3: 도서명 | G3: □□도
A4: 작성자 (지자체 담당자) | C4: 소속 | F4: 전화
C5: 성명 | F5: 핸드폰
C6: Fax | F6: E-mail
A8: 1. 발전소명 | C8: □□도 발전소
A9: 2. 발전소 위치 | C9: 주소 : ○○남도 ◇◇군 □□도 △△리 (토지대장, 토지등기부등본, 토지이용계획확인원 제출)
A10: 3. 부지확보 (토지대장, 토지 등기부등본, 토지 이용계획 확인원 제출) | C10: 구분 | D10: 부지확보 방식 | E10: 부지면적 (㎡) | F10: 집약도 30% 이상 부지(㎡) | G10: 나대지 면적 (㎡) | H10: 토목공사 분담률 (%)
C11: 태양광 | D11: 양도 (무상) | E11: 2000 | F11: 500 | G11: 500 | H11: 50
D12: 양도 (유상) | E12: 0 | F12: 0 | G12: 0
D13: 영구임대 (무상) | E13: 0 | F13: 0 | G13: 0
D14: 영구임대 (유상) | E14: 0 | F14: 0 | G14: 0
D15: 주택설치 | E15: 500
C16: 풍력 | D16: 양도 (무상) | E16: 300 | F16: 300 | G16: 300
D17: 양도 (유상) | E17: 0 | F17: 0 | G17: 0
D18: 영구임대 (무상) | E18: 0 | F18: 0 | G18: 0
D19: 영구임대 (유상) | E19: 0 | F19: 0 | G19: 0
C20: 합계 | E20: =SUM(E11:E19) -> 2800 | F20: =SUM(F11:F19) -> 800 | G20: =SUM(G11:G19) -> 800 | H20: =SUM(H11:H19) -> 50
A21: 4. 경제성 및 환경성 | B21: 디젤설비 노후도 | C21: 구분 | D21: 1호기 | E21: 2호기 | F21: 3호기 | G21: 4호기 | H21: 합계
C22: 설비용량 (kW) | D22: 100 | E22: 100 | F22: 50 | G22: 50 | H22: =SUM(D22:G22) -> 300
C23: 운전년수 (년) | D23: 10 | E23: 10 | F23: 5 | G23: 5
B24: 디젤발전소 열효율 (%) | C24: 2015년 | D24: 2016년 | E24: 2017년 | F24: 2018년 | G24: 2019년 | H24: 평균
C25: 25 | D25: 25 | E25: 20 | F25: 20 | G25: 20 | H25: =AVERAGE(C25:G25) -> 22
B26: 환경개선 효과 | C26: 구분 | D26: 디젤 | E26: 태양광 | F26: 풍력 | G26: 기타 | H26: 합계
C27: 2019년 발전량(kWh) | D27: 485971 | E27: 0 | F27: 0 | G27: 0 | H27: =SUM(D27:G27) -> 485971
C28: 재생에너지 설비용량(kW) | E28: 0 | F28: 0 | G28: 0 | H28: =SUM(E28:G28) -> 0
A29: 5.행정지원 내역 및 계획 | C29: 신재생e 관련 지자체 조례 등 개발행위 지원 등에 관한 내용 작성 (세부 계획서 별도 제출)
A30: 6.민원, 인허가 추진계획 | C30: 민원 및 관련법규 저촉 여부, 처리방안, 주민설명회 개최, 주민 동의서 확보, 부지확보 방안 등에 관한 내용 작성 (세부 계획서 별도 제출)
A31: 7.ESS설비 설치 위치 | C31: 발전소 구내 또는 인접부지 신축가능 여부에 관한 내용 작성 (토지대장, 토지등기부등본, 토지이용계획확인원 제출)
A32: 8.재생e설비 운영현황 및 계획 | C32: 기존 재생e 설비의 운영상태 및 운영계획 제출, 부지확보 면적에 따른 재생에너지원별 용량구성 내역 제출 향후 점검계획, 점검방법 및 주기, 고장발생 시 처리방법 등 사후관리에 관한 내용 작성 (세부 운영현황 및 계획서 별도제출)
A33: * [별첨 2]를 참고하여 [별첨 4]의 자체평가표 작성 후 사업신청서 작성(자체평가표 신청서에 첨부) * 4번 : 3번의 발전원별 부지면적에 따라 재생e 설비용량 산출, 전력수급실적 증빙자료 별도 제출 * 5~8번 : 추진계획을 요약하여 작성하며, 세부내역은 별도제출 * 8번 : 기존 재생e설비의 운영현황 제출(설비용량·상태, 운영기간, 이용률, 운영·교체계획 등)

Sheet 평가표
A1: 소형도서 재생에너지 전환사업 평가표
A3: 지자체명 | B3: ='평가표(세부)'!B3:D3 -> ○○군
A4: 도서명 | B4: ='평가표(세부)'!B4 -> □□도
A5: 발전소명 | B5: ='평가표(세부)'!B5:D5 -> □□도 발전소
A6: 발전소 위치
B7: ='평가표(세부)'!B7:D7 -> 주소 : ○○남도 ◇◇군 □□도 △△리 (토지대장, 토지등기부등본, 토지이용계획확인원 제출)
A9: 항목 | C9: 내용 | E9: 배점 | F9: 점수
A10: 계량 (70) | B10: 재생 에너지 발전 부지 여건 | C10: 1 | D10: 구축가능 부지면적 확보율 | E10: 20 | F10: ='평가표(세부)'!H10:H16 -> 13.757421
C11: 2 | D11: 전용부지 영구 확보율 | E11: 15 | F11: ='평가표(세부)'!H17 -> 5.2173913
C12: 3 | D12: 재생에너지 설치부지 집약도 | E12: 5 | F12: ='평가표(세부)'!H21 -> 1.4285714
C13: 4 | D13: 평지 점유율 | E13: 5 | F13: ='평가표(세부)'!H22 -> 1.9047619
C14: 5 | D14: 토목공사비용 분담률 | E14: 10 | F14: ='평가표(세부)'!H23 -> 5
B15: 경제성 및 환경성 | C15: 6 | D15: 경제적 개선 효과 | E15: 5 | F15: ='평가표(세부)'!H24 -> 2.7777778
C16: 7 | D16: 디젤발전소 열효율 | E16: 5 | F16: ='평가표(세부)'!H32 -> 3.9
C17: 8 | D17: 환경 개선 효과 | E17: 5 | F17: ='평가표(세부)'!H37 -> 4.4365985
A18: 계량 소계 | E18: 70 | F18: =SUM(F10:F17) -> 38.422522
A19: 비계량 (30) | B19: 필수 조건 | C19: 9 | D19: 행정지원 내역 및 계획 | E19: 5 | F19: 5
C20: 10 | D20: 민원, 인·허가 추진 계획 | E20: 5 | F20: 5
B21: 사업 추진 | C21: 11 | D21: ESS설비 설치위치 적정성 | E21: 5 | F21: 5
C22: 12 | D22: 재생e설비 운영현황 및 계획 | E22: 15 | F22: 15
A23: 비계량 소계 | E23: =SUM(E19:E22) -> 30 | F23: =SUM(E23) -> 30
A24: 합계 | E24: =E18+E23 -> 100 | F24: =F18+F23 -> 68.422522

Sheet 평가표(세부)
A1: 소형도서 재생에너지 전환사업 평가표(세부)
A3: 지자체명 | B3: =신청서!C3 -> ○○군 | E3: 2019년 연간 발전량(㎾h) | F3: =신청서!H27 -> 485971 | G3: 2019년 발전량과 동일한 발전량을 PV 또는 풍력으로 발전하는 경우의 설비용량과 이때의 소요면적을 기준으로 함
A4: 도서명 | B4: =신청서!G3 -> □□도 | E4: 100% PV 기준 설비용량(㎾) [계산] | F4: =F3*(1+0.016)^10/8760/0.15 -> 433.46304
A5: 발전소명 | B5: =신청서!C8 -> □□도 발전소 | E5: 100% 풍력 기준 설비용량(㎾) [계산] | F5: =F3*(1+0.016)^10/8760/0.1 -> 650.19455
A6: 발전소 위치 | E6: 100% PV 구축 소요면적(㎡) [계산] | F6: =F4*10 -> 4334.6304
B7: =신청서!C9 -> 주소 : ○○남도 ◇◇군 □□도 △△리 (토지대장, 토지등기부등본, 토지이용계획확인원 제출) | E7: 100% 풍력 구축 소요면적(㎡) [계산] | F7: =F5*3 -> 1950.5837
A9: 항목 | C9: 내용 | E9: 입력 또는 선택 사항 | G9: 배점 | H9: 점수 | I9: 비고
A10: 계량 (70) | B10: 재생 에너지 발전 부지 여건 | C10: 1 | D10: 구축가능 부지면적 확보율 | E10: 집단PV 확보면적(㎡) | F10: =SUM(신청서!E11:E14) -> 2000 | G10: 20 | H10: =MIN(G10*((F10+1.67*F11)/F6+0.22*F13/F7),20) -> 13.757421 | I10: ‣ 점수(y) = 배점 × (PV부지확보율 + 0.22×풍력부지확보율) - PV부지확보율 = ((집단PV 제공면적+1.67 ×주택PV 제공면적) / 100% PV구축 소요면적) - 풍력부지확보율 = (풍력 제공면적 / 100% 풍력구축 소요면적) - ’19년 디젤발전량에 준하는 PV 또는 풍력 설치를 위한 부지면적 확보비율
E11: 주택PV 확보면적(㎡) | F11: =신청서!E15 -> 500
E12: → 집단PV 환산면적(㎡)[계산] | F12: =F11*1.67 -> 835
E13: 풍력부지 확보면적(㎡) | F13: =SUM(신청서!E16:E19) -> 300
E14: 구축 예상 집단PV 설비용량(㎾) [계산] | F14: =F10/10 -> 200
E15: 구축 예상 주택PV 설비용량(㎾) [계산] | F15: =F11/6 -> 83.333333
E16: 구축 예상 풍력 설비용량(㎾) [계산] | F16: =F13/3 -> 100
C17: 2 | D17: 전용부지 영구 확보율 | E17: 양도(무상) 부지 면적(㎡) | F17: =신청서!F11+신청서!E16 -> 800 | G17: 15 | H17: =MIN((F17/(F10+F13)*1+F18/(F10+F13)*0.8+F19/(F10+F13)*0.4+F20/(F10+F13)*0.2)*G17,15) -> 5.2173913 | I17: ‣ 점수 = 배점 × ∑ (요소별 가중치 × 제공부지 유형)
E18: 양도(유상) 부지 면적(㎡) | F18: =신청서!E12+신청서!E17 -> 0
E19: 영구임대(무상) 부지 면적(㎡) | F19: =신청서!E13+신청서!E18 -> 0
E20: 영구임대(유상) 부지 면적(㎡) | F20: =신청서!E14+신청서!E19 -> 0
C21: 3 | D21: 재생에너지 설치부지 집약도 | E21: 집약도 30% 이상인 부지 전체의 집약도 합 | F21: =신청서!F20/신청서!E20 -> 0.28571429 | G21: 5 | H21: =MIN(G21*F21, 5) -> 1.4285714 | I21: ‣ 점수 = 배점 × 집약도(%) - 확보부지의 30%이상 면적만 계상
C22: 4 | D22: 평지 점유율 | E22: 나대지 면적(㎡) | F22: =신청서!G20 -> 800 | G22: 5 | H22: =MIN(F22/(F10+F16)*G22, 5) -> 1.9047619 | I22: ‣ 점수 = 배점 × 평지 점유율(%) - 부지형태에 따른 평가 (남북 경사 5도 이하 적용)
C23: 5 | D23: 토목공사비용 분담률 | E23: ①번 항목 부지 접근성 확보를 위한 도로 개설, 포장 등 토목비용 분담 | F23: =신청서!H11/100 -> 0.5 | G23: 10 | H23: =MIN(G23*F23, 10) -> 5 | I23: ‣ 점수 = 배점 × 분담률(%) - 사업진행 전 협약가능 지자체만 적용
B24: 경제성 및 환경성 | C24: 6 | D24: 경제적 개선 효과 | E24: 디젤 1호기 용량(㎾) | F24: =신청서!D22 -> 100 | G24: 5 | H24: =MIN(G24*(F24*F28+F25*F29+F26*F30+F27*F31)/((F24+F25+F26+F27)*15),5) -> 2.7777778 | I24: ‣ 점수 = 배점 × 디젤발전설비 노후도(%) - 내용년수 : 15년 (고속기 기준)
E25: 디젤 2호기 용량(㎾) | F25: =신청서!E22 -> 100
E26: 디젤 3호기 용량(㎾) | F26: =신청서!F22 -> 50
E27: 디젤 4호기 용량(㎾) | F27: =신청서!G22 -> 50
E28: 디젤 1호기 운전년수 | F28: =신청서!D23 -> 10
E29: 디젤 2호기 운전년수 | F29: =신청서!E23 -> 10
E30: 디젤 3호기 운전년수 | F30: =신청서!F23 -> 5
E31: 디젤 4호기 운전년수 | F31: =신청서!G23 -> 5
C32: 7 | D32: 디젤발전소 열효율 | E32: 2015년 열효율 | F32: =신청서!C25 -> 25 | G32: 5 | H32: =MIN(G32*(100-AVERAGE(F32:F36))/100, 5) -> 3.9 | I32: ‣ 점수 = 배점 × (1 - 디젤발전소 열효율(%)) - 열효율이 낮을수록 에너지 이용효율 개선 폭이 넓음
E33: 2016년 열효율 | F33: =신청서!D25 -> 25
E34: 2017년 열효율 | F34: =신청서!E25 -> 20
E35: 2018년 열효율 | F35: =신청서!F25 -> 20
E36: 2019년 열효율 | F36: =신청서!G25 -> 20
C37: 8 | D37: 환경 개선 효과 | E37: PV 예상 발전량(㎾h) [계산] | F37: =(F14+F15)*8760*0.15*(1.016)^10 -> 436345.11 | G37: 5 | H37: =IF(G37*(F37+F38)*0.8/F3>5,5,G37*(F37+F38)*0.8/F3) -> 4.4365985 | I37: ‣ 점수 = 배점 × 재생e 발전량 / 2019년 발전량 x 100 [%] - 재생e 발전량 = ∑ [설비용량 × 8,760h × 이용률 × (1+연평균 부하증가율)10] - 재생e 발전비율이 높을수록 환경오염물질 배출이 적음
E38: 풍력 예상 발전량(㎾h) [계산] | F38: =F16*8760*0.1*(1.016)^10 -> 102669.44
A39: 계량 소계 | G39: =SUM(G10:G38) -> 70 | H39: =SUM(H10:H38) -> 38.422522
A40: 비계량 (30) | B40: 필수 조건 | C40: 9 | D40: 행정지원 내역 및 계획 | G40: 5 | H40: 5 | I40: ‣ 신재생e 관련 지자체 조례 등 개발행위 지원
C41: 10 | D41: 민원, 인·허가 추진 계획 | G41: 5 | H41: 5 | I41: ‣ 민원 및 관련법규 저촉 여부, 처리방안의 적정성 ‣ 주민설명회 개최, 동의서 확보, 부지확보 계획 등
B42: 사업 추진 | C42: 11 | D42: ESS설비 설치위치 적정성 | G42: 5 | H42: 5 | I42: ‣ 발전소 구내 또는 인접부지 신축가능 여부
C43: 12 | D43: 재생e설비 운영현황 및 계획 | G43: 15 | H43: 15 | I43: ‣ 기존 재생e 설비의 운영상태 및 운영계획의 적정성 ‣ 도서특성을 감안한 에너지원 및 용량구성 적정성 ‣ 향후 점검계획, 점검방법 및 주기, 고장발생 시 처리방법 등 사후관리의 구체성
A44: 비계량 소계 | G44: =SUM(G40:G43) -> 30 | H44: =SUM(G44) -> 30
A45: 합계 | G45: =G39+G44 -> 100 | H45: =H39+H44 -> 68.422522
