Workbook

Sheet ①구성 및 소개
B1: 배출권거래제 참여기업 온실가스•에너지 감축효과 산출 Tool
C3: 가. 개발목적
C4: - 본 Tool은 산업발전부문 『배출권거래제 참여기업 온실가스•에너지 감축설비 지원사업』의 에너지 절감량 및 온실가스 감축효과 산출을 위해 개발됨
C5: - 본 Tool에 의해 산출된 감축량은 온실가스•에너지 감축설비 지원사업 신청 시 활용할 수 있음
C7: 나. 작성방법
D8: 감축설비 종류 | E8: 작성시트 | F8: 작성Tip
D9: 고효율 조명(LED) | E9: [LED_자동산정] [LED_산출근거] | F9: - 연간소비전력량(kWh)을 도출하기 위해 [LED_산출근거] 시트에 소비전력, 모델명, 수량 등을 입력해야 함
D10: 고효율 조명(LED) 외 감축설비 | E10: [감축설비명_자동산정] | F10: - 『온실가스 배출권거래제 배추량 보고 및 인증에관한 지침』을 근거로 온실가스 배출량을 산정하며, IPCC 기본배출계수 및 국가고유 발열량을 적용함 - 에너지 감축량 산정은 『에너지기본법』 시행규칙의 에너지열량 환산기준을 적용함 - 단, 기본계수를 활용할수 없는 경우 '[감축설비명_직접입력]'에 직접입력해야 함
C12: 다. 제출방법
C13: - 작성 후 한국에너지공단으로 제출 (※ 파일명 : 감축효과 산출 Tool_업체명(사업장명)_감축설비명.xls)

Sheet ②감축설비명_자동산정
B1: 배출권거래제 참여기업 온실가스 에너지 감축 효과 산출 Tool
C3: 업체명(사업장명) | H3: 직접입력항목 | J3: 선택입력 항목
C4: 감축설비명
C5: 총 사업비 | E5: 억 원
B8: 1. 활동자료 입력 | D8: 개선 전 | G8: 개선 후 | J8: 기대효과
C10: 구분 | D10: 에너지종류 | E10: 사용량 | G10: 에너지종류 | H10: 사용량 | J10: 에너지 절감금액 (백만원)
C11: 활동자료 | J11: =E17-H17 -> 0
C12: 단위
B14: 2. 에너지 절감효과 산정
C16: 에너지 종류 | D16: 석유환산톤(toe) | E16: 에너지사용금액(백만원) | G16: 석유환산톤(toe) | H16: 에너지사용금액(백만원) | J16: 에너지 절감량 검토 결과(toe)
C17: 활동자료 | D17: =ROUND(E11,3)*VLOOKUP(D11,참고1.배출계수!$B$2:$O$25,12,FALSE) -> #N/A | G17: =ROUND(H11,3)*VLOOKUP(G11,참고1.배출계수!$B$2:$O$30,12,FALSE) -> #N/A | J17: =D17-G17 -> #N/A
B19: 3. 온실가스 감축효과 산정
C21: 온실가스종류 | D21: 배출량 | E21: 이산화탄소상당량(tCO2e) | G21: 배출량 | H21: 이산화탄소상당량 (tCO2e) | J21: 온실가스 감축량 (tCO2e)
C22: CO2 | D22: =ROUND(E11,3)*VLOOKUP(D11,참고1.배출계수!$B$2:$O$25,7,FALSE) -> #N/A | E22: =D22*1 -> #N/A | G22: =ROUND(H11,3)*VLOOKUP(G11,참고1.배출계수!$B$2:$O$30,7,FALSE) -> #N/A | H22: =G22*1 -> #N/A | J22: =E22-H22 -> #N/A
C23: CH4 | D23: =ROUND(E11,3)*VLOOKUP(D11,참고1.배출계수!$B$2:$O$25,8,FALSE) -> #N/A | E23: =D23*21 -> #N/A | G23: =ROUND(H11,3)*VLOOKUP(G11,참고1.배출계수!$B$2:$O$30,8,FALSE) -> #N/A | H23: =G23*21 -> #N/A | J23: =E23-H23 -> #N/A
C24: N2O | D24: =ROUND(E11,3)*VLOOKUP(D11,참고1.배출계수!$B$2:$O$25,9,FALSE) -> #N/A | E24: =D24*310 -> #N/A | G24: =ROUND(H11,3)*VLOOKUP(G11,참고1.배출계수!$B$2:$O$30,9,FALSE) -> #N/A | H24: =G24*310 -> #N/A | J24: =E24-H24 -> #N/A
C25: 합계 | E25: =ROUNDDOWN(SUM(E22:E24),0) -> #N/A | H25: =ROUNDDOWN(SUM(H22:H24),0) -> #N/A | J25: =E25-H25 -> #N/A

Sheet ③감축설비명_직접입력
B1: 배출권거래제 참여기업 온실가스 에너지 감축 효과 산출 Tool
C3: 업체명(사업장명) | H3: 직접입력항목 | J3: 선택입력 항목
C4: 감축설비명
C5: 총 사업비 | E5: 억 원
B8: 1. 활동자료 입력 | D8: 개선 전 | G8: 개선 후 | J8: 기대효과
C10: 구분 | D10: 에너지종류 | E10: 사용량 | G10: 에너지종류 | H10: 사용량 | J10: 에너지 절감금액 (백만원)
C11: 활동자료 | J11: =E17-H17 -> 0
C12: 단위
B14: 2. 에너지 절감효과 산정
C16: 에너지 종류 | D16: 석유환산톤(toe) | E16: 에너지사용금액(백만원) | G16: 석유환산톤(toe) | H16: 에너지사용금액(백만원) | J16: 에너지 절감량 검토 결과(toe)
C17: 활동자료 | D17: =ROUND(E11,3)*D18 -> 0 | G17: =ROUND(H11,3)*G18 -> 0 | J17: =D17-G17 -> 0
C18: 석유환산톤(toe) 환산계수
B20: 3. 온실가스 감축효과 산정
C22: 온실가스종류 | D22: 배출량 | E22: 이산화탄소상당량(tCO2e) | G22: 배출량 | H22: 이산화탄소상당량 (tCO2e) | J22: 온실가스 감축량 (tCO2e)
C23: CO2 | E23: =D23*1 -> 0 | H23: =G23*1 -> 0 | J23: =E23-H23 -> 0
C24: CH4 | E24: =D24*21 -> 0 | H24: =G24*21 -> 0 | J24: =E24-H24 -> 0
C25: N2O | E25: =D25*310 -> 0 | H25: =G25*310 -> 0 | J25: =E25-H25 -> 0
C26: 합계 | E26: =ROUNDDOWN(SUM(E23:E25),0) -> 0 | H26: =ROUNDDOWN(SUM(H23:H25),0) -> 0 | J26: =E26-H26 -> 0
C27: 매개변수 | D27: 값 | E27: 단위 | G27: 값 | H27: 단위 | J27: 온실가스 감축량 (tCO2e)
C28: CO2 배출계수
C29: CH4 배출계수
C30: N2O 배출계수
C31: 순발열량
C32: 총발열량

Sheet ④LED_자동산정
B1: 배출권거래제 참여기업 온실가스 에너지 감축 효과 산출 Tool(고효율조명 LED)
C3: 업체명(사업장명) | H3: 직접입력항목 | J3: 선택입력 항목
C4: 감축설비명
C5: 총 사업비 | E5: 억 원
B8: 1. 활동자료 입력 | D8: 개선 전 | G8: 개선 후 | J8: 기대효과
C10: 구분 | D10: 에너지종류 | E10: 연간 소비 전력량(kWh) | G10: 에너지종류 | H10: 연간 소비 전력량(kWh) | J10: 에너지 절감금액 (백만원)
C11: 활동자료 | D11: 전기 | E11: =⑤LED_산출근거!K6 -> 0 | G11: 전기 | H11: =⑤LED_산출근거!O6 -> 0 | J11: =E17-H17 -> 0
C12: 단위 | D12: kWh | G12: kWh
E13: ▲[LED 산출근거] 시트 작성 | H13: ▲[LED 산출근거] 시트 작성
B14: 2. 에너지 절감효과 산정
C16: 에너지 종류 | D16: 석유환산톤(toe) | E16: 에너지사용금액(백만원) | G16: 석유환산톤(toe) | H16: 에너지사용금액(백만원) | J16: 에너지 절감량 검토 결과(toe)
C17: 활동자료 | D17: =ROUND(E11,3)*VLOOKUP(D11,참고1.배출계수!$B$2:$O$25,12,FALSE) -> 0 | G17: =ROUND(H11,3)*VLOOKUP(G11,참고1.배출계수!$B$2:$O$30,12,FALSE) -> 0 | J17: =D17-G17 -> 0
B19: 3. 온실가스 감축효과 산정
C21: 온실가스종류 | D21: 배출량 | E21: 이산화탄소상당량(tCO2e) | G21: 배출량 | H21: 이산화탄소상당량 (tCO2e) | J21: 온실가스 감축량 (tCO2e)
C22: CO2 | D22: =ROUND(E11,3)*VLOOKUP(D11,참고1.배출계수!$B$2:$O$25,7,FALSE) -> 0 | E22: =D22*1 -> 0 | G22: =ROUND(H11,3)*VLOOKUP(G11,참고1.배출계수!$B$2:$O$30,7,FALSE) -> 0 | H22: =G22*1 -> 0 | J22: =E22-H22 -> 0
C23: CH4 | D23: =ROUND(E11,3)*VLOOKUP(D11,참고1.배출계수!$B$2:$O$25,8,FALSE) -> 0 | E23: =D23*21 -> 0 | G23: =ROUND(H11,3)*VLOOKUP(G11,참고1.배출계수!$B$2:$O$30,8,FALSE) -> 0 | H23: =G23*21 -> 0 | J23: =E23-H23 -> 0
C24: N2O | D24: =ROUND(E11,3)*VLOOKUP(D11,참고1.배출계수!$B$2:$O$25,9,FALSE) -> 0 | E24: =D24*310 -> 0 | G24: =ROUND(H11,3)*VLOOKUP(G11,참고1.배출계수!$B$2:$O$30,9,FALSE) -> 0 | H24: =G24*310 -> 0 | J24: =E24-H24 -> 0
C25: 합계 | E25: =ROUNDDOWN(SUM(E22:E24),0) -> 0 | H25: =ROUNDDOWN(SUM(H22:H24),0) -> 0 | J25: =E25-H25 -> 0

Sheet 참고1.배출계수
B1: 참고1. 배출계수
B2: 사용연료 | C2: 연료 사용량 | D2: 단위 | E2: 순발열량 | F2: 단위 | G2: 산화계수 | H2: CO2(ton) | I2: CH4(ton) | J2: N2O(ton) | K2: 총발열량 | L2: 단위 | M2: 석유환산톤(toe) | N2: 국가시스템 입력 | O2: 단위 | Q2: 감축설비 목록
B3: 원유 | C3: 1 | D3: ton | E3: 0.0422 | F3: TJ/ton | G3: 1 | H3: 3.26628 | I3: 0.0001266 | J3: 2.532e-05 | K3: 0.0449 | L3: TJ/ton | M3: 1.073 | N3: 44900 | O3: MJ/ton | Q3: 1. 폐열회수 이용설비
B4: 휘발유 | C4: 1 | D4: ㎘ | E4: 0.0303 | F4: TJ/㎘ | G4: 1 | H4: 2.09979 | I4: 9.09e-05 | J4: 1.818e-05 | K4: 0.0326 | L4: TJ/㎘ | M4: 0.778 | N4: 32600 | O4: MJ/㎘ | Q4: 2. 차압터빈시스템
B5: 실내 등유 | C5: 1 | D5: ㎘ | E5: 0.0343 | F5: TJ/㎘ | G5: 1 | H5: 2.46617 | I5: 0.0001029 | J5: 2.058e-05 | K5: 0.0368 | L5: TJ/㎘ | M5: 0.879 | N5: 36800 | O5: MJ/㎘ | Q5: 3. 인버터
B6: 보일러 등유 | C6: 1 | D6: ㎘ | E6: 0.0343 | F6: TJ/㎘ | G6: 1 | H6: 2.46617 | I6: 0.0001029 | J6: 2.058e-05 | K6: 0.0368 | L6: TJ/㎘ | M6: 0.879 | N6: 36800 | O6: MJ/㎘ | Q6: 4. 고효율 조명
B7: 가스/디젤 오일(경유) | C7: 1 | D7: ㎘ | E7: 0.0353 | F7: TJ/㎘ | G7: 1 | H7: 2.61573 | I7: 0.0001059 | J7: 2.118e-05 | K7: 0.0377 | L7: TJ/㎘ | M7: 0.901 | N7: 37700 | O7: MJ/㎘ | Q7: 5. 고효율 펌프
B8: B-A유 | C8: 1 | D8: ㎘ | E8: 0.0364 | F8: TJ/㎘ | G8: 1 | H8: =E8*75100/10^3 -> 2.73364 | I8: 0.0001092 | J8: 2.184e-05 | K8: 0.0389 | L8: TJ/㎘ | M8: 0.929 | N8: 38900 | O8: MJ/㎘ | Q8: 6. 고효율 원심식‧스크류 냉동기
B9: B-B유 | C9: 1 | D9: ㎘ | E9: 0.038 | F9: TJ/㎘ | G9: 1 | H9: 2.9412 | I9: 0.000114 | J9: 2.28e-05 | K9: 0.0405 | L9: TJ/㎘ | M9: 0.967 | N9: 40500 | O9: MJ/㎘ | Q9: 7. 고효율 터보블로어
B10: B-C유 | C10: 1 | D10: ㎘ | E10: 0.0392 | F10: TJ/㎘ | G10: 1 | H10: 3.03408 | I10: 0.0001176 | J10: 2.352e-05 | K10: 0.0416 | L10: TJ/㎘ | M10: 0.995 | N10: 41600 | O10: MJ/㎘ | Q10: 8. 고효율 가스히트펌프
B11: 프로판 | C11: 1 | D11: ton | E11: 0.0463 | F11: TJ/ton | G11: 1 | H11: 2.92153 | I11: 4.63e-05 | J11: 4.63e-06 | K11: 0.0504 | L11: TJ/ton | M11: 1.205 | N11: 50400 | O11: MJ/ton | Q11: 9. 최적운전 자동제어시스템
B12: 나프타 | C12: 1 | D12: ㎘ | E12: 0.0303 | F12: TJ/㎘ | G12: 1 | H12: 2.34522 | I12: 9.09e-05 | J12: 1.818e-05 | K12: 0.0323 | L12: TJ/㎘ | M12: 0.771 | N12: 32300 | O12: MJ/㎘ | Q12: 10. 유체커플링
B13: 부생연료1호1) | C13: 1 | D13: ㎘ | E13: 0.0343 | F13: TJ/㎘ | G13: 1 | H13: 2.46617 | I13: 0.0001029 | J13: 2.058e-05 | K13: 0.0369 | L13: TJ/㎘ | M13: 0.88 | N13: 36900 | O13: MJ/㎘ | Q13: 11. 인버터 제어형 압축기
B14: 부생연료2호2) | C14: 1 | D14: ㎘ | E14: 0.0379 | F14: TJ/㎘ | G14: 1 | H14: 2.77807 | I14: 0.0001137 | J14: 2.274e-05 | K14: 0.04 | L14: TJ/㎘ | M14: 0.955 | N14: 40000 | O14: MJ/㎘ | Q14: 12. 에너지절약형 가열로 및 열처리로
B15: 천연가스(LNG) | C15: 1 | D15: ton | E15: 0.0493 | F15: TJ/ton | G15: 1 | H15: 2.76573 | I15: 4.93e-05 | J15: 4.93e-06 | K15: 0.0546 | L15: TJ/ton | M15: 1.304 | N15: 54600 | O15: MJ/ton | Q15: 13. 목재펠릿 연료전환
B16: 도시가스(LNG) | C16: 1 | D16: 천㎥ | E16: 3.94e-05 | F16: TJ/N㎥ | G16: 1 | H16: 2.21034 | I16: 3.94e-05 | J16: 3.94e-06 | K16: 4.36e-05 | L16: TJ/N㎥ | M16: 1.043 | N16: 43600 | O16: MJ/천㎥ | Q16: 14. 연료전환
B17: 도시가스(LPG) | C17: 1 | D17: 천㎥ | E17: 5.77e-05 | F17: TJ/N㎥ | G17: 1 | H17: 3.64087 | I17: 5.77e-05 | J17: 5.77e-06 | K17: 6.28e-05 | L17: TJ/N㎥ | M17: 1.5 | N17: 62800 | O17: MJ/천㎥ | Q17: 15. 기타
B18: 국내무연탄 | C18: 1 | D18: ton | E18: 0.0186 | F18: TJ/ton | G18: 1 | H18: 1.82838 | I18: 0.000186 | J18: 2.79e-05 | K18: 0.0189 | L18: TJ/ton | M18: 0.45 | N18: 18900 | O18: MJ/ton
B19: 수입무연탄 | C19: 1 | D19: ton | E19: 0.0244 | F19: TJ/ton | G19: 1 | H19: 2.39852 | I19: 0.000244 | J19: 3.66e-05 | K19: 0.0247 | L19: TJ/ton | M19: 0.59 | N19: 24700 | O19: MJ/ton
B20: 유연탄(연료용) | C20: 1 | D20: ton | E20: 0.0247 | F20: TJ/ton | G20: 1 | H20: 2.33662 | I20: 0.000247 | J20: 3.705e-05 | K20: 0.0258 | L20: TJ/ton | M20: 0.616 | N20: 25800 | O20: MJ/ton
B21: 유연탄(원료용) | C21: 1 | D21: ton | E21: 0.0282 | F21: TJ/ton | G21: 1 | H21: 2.66772 | I21: 0.000282 | J21: 4.23e-05 | K21: 0.0293 | L21: TJ/ton | M21: 0.7 | N21: 29300 | O21: MJ/ton
B22: 아역청탄 | C22: 1 | D22: ton | E22: 0.0214 | F22: TJ/ton | G22: 1 | H22: 2.77729 | I22: 0.000289 | J22: 4.335e-05 | K22: 0.0227 | L22: TJ/ton | M22: 0.542 | N22: 29100 | O22: MJ/ton
B23: 코크스 | C23: 1 | D23: ton | E23: 0.0289 | F23: TJ/ton | G23: 1 | H23: 3.0923 | I23: 0.000289 | J23: 4.335e-05 | K23: 0.0291 | L23: TJ/ton | M23: 0.696 | N23: 29100 | O23: MJ/ton
B24: 전력(발전기준) | C24: 1 | D24: kWh | E24: 0.0088 | F24: TJ/MWh | G24: 1 | H24: 0.0004653 | I24: 5.4e-09 | J24: 2.7e-09 | K24: 0.0088 | L24: TJ/MWh | M24: 0.000211 | N24: 8.8 | O24: MJ/kWh
B25: 전기 | C25: 1 | D25: kWh | E25: 0.0096 | F25: TJ/MWh | G25: 1 | H25: 0.0004653 | I25: 5.4e-09 | J25: 2.7e-09 | K25: 0.0096 | L25: TJ/MWh | M25: 0.00023 | N25: 9.6 | O25: MJ/kWh

Sheet ⑤LED_산출근거
B1: 배출권거래제 참여기업 온실가스 에너지 감축 효과 산출근거(LED)
N2: 직접입력항목
C4: 건물 | D4: 층(F) | E4: 도면번호 | F4: 사용 일수 | G4: 사용 시간 | H4: 개선 전 | L4: 개선 후
H5: 모델명 | I5: 소비전력 (W) | J5: 수량 | K5: 연간 소비 전력량(kWh) | L5: 모델명 | M5: 소비전력 (W) | N5: 수량 | O5: 연간 소비 전력량(kWh)
C6: 소 계 | J6: =SUM(J7:J283) -> 0 | K6: =SUM(K7:K283) -> 0 | L6: 소 계 | N6: =SUM(N7:N283) -> 0 | O6: =SUM(O7:O283) -> 0
K7: =F7*G7*J7*I7/1000 -> 0 | N7: =J7 -> 0 | O7: =F7*G7*N7*M7/1000 -> 0
K8: =F8*G8*J8*I8/1000 -> 0 | N8: =J8 -> 0 | O8: =F8*G8*N8*M8/1000 -> 0
K9: =F9*G9*J9*I9/1000 -> 0 | N9: =J9 -> 0 | O9: =F9*G9*N9*M9/1000 -> 0
K10: =F10*G10*J10*I10/1000 -> 0 | N10: =J10 -> 0 | O10: =F10*G10*N10*M10/1000 -> 0
K11: =F11*G11*J11*I11/1000 -> 0 | N11: =J11 -> 0 | O11: =F11*G11*N11*M11/1000 -> 0
K12: =F12*G12*J12*I12/1000 -> 0 | N12: =J12 -> 0 | O12: =F12*G12*N12*M12/1000 -> 0
K13: =F13*G13*J13*I13/1000 -> 0 | N13: =J13 -> 0 | O13: =F13*G13*N13*M13/1000 -> 0
K14: =F14*G14*J14*I14/1000 -> 0 | N14: =J14 -> 0 | O14: =F14*G14*N14*M14/1000 -> 0
K15: =F15*G15*J15*I15/1000 -> 0 | N15: =J15 -> 0 | O15: =F15*G15*N15*M15/1000 -> 0
K16: =F16*G16*J16*I16/1000 -> 0 | N16: =J16 -> 0 | O16: =F16*G16*N16*M16/1000 -> 0
K17: =F17*G17*J17*I17/1000 -> 0 | N17: =J17 -> 0 | O17: =F17*G17*N17*M17/1000 -> 0
K18: =F18*G18*J18*I18/1000 -> 0 | N18: =J18 -> 0 | O18: =F18*G18*N18*M18/1000 -> 0
... K23: =F23*G23*J23*I23/1000 -> 0 | N23: =J23 -> 0 | O23: =F23*G23*N23*M23/1000 -> 0
